BEGIN:VCALENDAR
VERSION:2.0
PRODID:-//ChamberMaster//Event Calendar 2.0//EN
METHOD:PUBLISH
X-PUBLISHED-TTL:P3D
REFRESH-INTERVAL:P3D
CALSCALE:GREGORIAN
BEGIN:VEVENT
DTSTART:20100407T040000Z
DTEND:20100407T040000Z
X-MICROSOFT-CDO-ALLDAYEVENT:FALSE
SUMMARY:Breakfast Speaker Series
DESCRIPTION:**PLEASE NOTE the date change!**\n\nPlease join us for the April Breakfast Speaker Series as we host guest speaker Scott Soares\, Commissioner of MA Department of Agricultural Resources (MDAR).\n\nThe Business of Agriculture in MA: Economic Trends\, New Ideas\, Opportunities and Markets\nReservations Required. Reservations not cancelled 24 hours prior to event will be charged.\n\nSeason Ticket Holders:\nTo register\, email Pam Marrese.\n\nThere have been a few changes to our monthly Breakfast Speaker Series. We are making the switch to a Continental Breakfast and lowering the price of admission. We hope to see you there!
X-ALT-DESC;FMTTYPE=text/html:<P><SPAN style="FONT-FAMILY: 'Century Gothic'"><SPAN style="FONT-SIZE: small"><FONT color=#000000 size=2><FONT color=#ff0000>**PLEASE NOTE&nbsp\;the&nbsp\;date change!**</FONT><BR><BR>Please join us&nbsp\;for the April Breakfast Speaker Series as we host guest speaker Scott Soares\, Commissioner of </FONT><A style="COLOR: black\; TEXT-DECORATION: underline" title="" dataFld=0:0 href="http://www.mass.gov/agr/index.htm" target=_NewWindow><FONT color=#000000 size=2>MA Department of Agricultural Resources</FONT></A><FONT size=2><FONT color=#000000> (MDAR).<BR><BR><EM>The Business of Agriculture in MA: Economic Trends\, New Ideas\, Opportunities and Markets<BR></EM></FONT></FONT></P></SPAN></SPAN><P><SPAN style="FONT-FAMILY: 'Century Gothic'"><SPAN style="FONT-SIZE: small"><FONT size=2><FONT color=#000000>Reservations&nbsp\;Required. Reservations not cancelled 24 hours prior to event will be charged.<BR><BR>Season Ticket Holders:<BR>To register\, email </FONT></FONT></SPAN><A style="COLOR: black\; TEXT-DECORATION: underline" title="" dataFld=0:0 href="mailto:pmarrese@newburyportchamber.org" target=_self><SPAN style="FONT-SIZE: small"><FONT color=#000000 size=2>Pam Marrese</FONT></SPAN></A><SPAN style="FONT-SIZE: small"><FONT size=2><FONT size=3><FONT size=2><FONT color=#0f0f0f><FONT color=#000000>.<BR><BR><EM>There have been a few changes to our monthly Breakfast Speaker Series. We are making the switch to a Continental Breakfast and lowering the price of admission. We hope to see you there!</P></EM></FONT></FONT></FONT></FONT></FONT></SPAN></SPAN>
LOCATION:Mission Oak Grill
UID:e.1189.1404
SEQUENCE:3
DTSTAMP:20260421T065809Z
URL:https://business.newburyportchamber.org/events/details/breakfast-speaker-series-04-07-2010-1404
END:VEVENT

END:VCALENDAR
