BEGIN:VCALENDAR
VERSION:2.0
PRODID:-//ChamberMaster//Event Calendar 2.0//EN
METHOD:PUBLISH
X-PUBLISHED-TTL:P3D
REFRESH-INTERVAL:P3D
CALSCALE:GREGORIAN
BEGIN:VEVENT
DTSTART:20100304T050000Z
DTEND:20100304T050000Z
X-MICROSOFT-CDO-ALLDAYEVENT:FALSE
SUMMARY:Breakfast Speaker Series
DESCRIPTION:Please join us for the March Breakfast Speaker Series!\n\nGuest Speaker: Jon Hurst\, President of Retailers Association of Massachusetts\n\nThe Perfect Partnership: How a vibrant downtown affects all businesses\, large and small.\n\nSponsored by: The Newburyport Five Cents Savings Bank\n\nSeason Ticket Holders: To register\, email Pam Marrese.\n\nReservations Required. Reservations not cancelled 24 hours prior to event will be charged.\n\nThere have been a few changes to our monthly Breakfast Speaker Series. We are making the switch to a Continental Breakfast and lowering the price of admission. We hope to see you there!
X-ALT-DESC;FMTTYPE=text/html:<P><SPAN style="FONT-FAMILY: Calibri"><SPAN style="FONT-SIZE: small">Please join us&nbsp\;for the March Breakfast Speaker Series!<BR><BR>Guest Speaker: Jon Hurst\, President of <A href="http://www.retailersma.org/index.cfm"><SPAN style="COLOR: #000000">Retailers Association of Massachusetts</SPAN></A><BR><BR><EM>The Perfect Partnership: How a vibrant downtown affects all businesses\, large and small.</EM><BR><BR>Sponsored by: <A href="https://www.newburyportbank.com/home/home"><SPAN style="COLOR: #000000">The Newburyport Five Cents Savings Bank</SPAN></A><BR style="COLOR: #000000"><BR>Season Ticket Holders: To register\, ema<SPAN style="COLOR: #000000">il </SPAN></SPAN><A href="mailto:pmarrese@newburyportchamber.org"><SPAN style="FONT-SIZE: small\; COLOR: #000000">Pam Marrese</SPAN></A><SPAN style="FONT-SIZE: small">.<BR><BR><SPAN style="COLOR: #ff0000"><STRONG>Reservations&nbsp\;Required.</STRONG></SPAN> Reservations not cancelled 24 hours prior to event will be charged.<BR><BR><EM>There have been a few changes to our monthly Breakfast Speaker Series. We are making the switch to a Continental Breakfast and lowering the price of admission. We hope to see you there! </EM></SPAN></SPAN></P>
LOCATION:The Phoenix Room
UID:e.1189.1402
SEQUENCE:3
DTSTAMP:20260421T084843Z
URL:https://business.newburyportchamber.org/events/details/breakfast-speaker-series-03-04-2010-1402
END:VEVENT

END:VCALENDAR
