BEGIN:VCALENDAR
VERSION:2.0
PRODID:-//ChamberMaster//Event Calendar 2.0//EN
METHOD:PUBLISH
X-PUBLISHED-TTL:P3D
REFRESH-INTERVAL:P3D
CALSCALE:GREGORIAN
BEGIN:VEVENT
DTSTART:20110204T050000Z
DTEND:20110204T050000Z
X-MICROSOFT-CDO-ALLDAYEVENT:FALSE
SUMMARY:Breakfast Speaker Series
DESCRIPTION:**Due to the upcoming snow forecast\, please note the date change.**Join us for the February Breakfast Speaker Series as Mayor Donna Holaday presents the State of the City address.\n\nReservations Required. Reservations not cancelled 24 hours prior to event will be charged.\n\nSeason Ticket Holders:\nTo register\, email Terry Thompson.
X-ALT-DESC;FMTTYPE=text/html:<P><SPAN style="FONT-FAMILY: 'Century Gothic'"><SPAN style="FONT-SIZE: small"><FONT color=#ff0000 size=2>**Due to the upcoming snow forecast\, please note the date change.**</FONT></SPAN></SPAN></P><P><SPAN style="FONT-FAMILY: 'Century Gothic'"><SPAN style="FONT-SIZE: small"><FONT size=2>Join us&nbsp\;for the February Breakfast Speaker Series as&nbsp\;</FONT><FONT size=2>Mayor Donna Holaday&nbsp\;presents the State of the City address.<BR><BR></FONT></SPAN></SPAN><SPAN style="FONT-FAMILY: 'Century Gothic'"><SPAN style="FONT-SIZE: small"><FONT size=2><EM>Reservations&nbsp\;Required. Reservations not cancelled 24 hours prior to event will be charged.</EM><BR><BR>Season Ticket Holders:<BR>To register\, email </FONT></SPAN><A style="COLOR: blue\; TEXT-DECORATION: underline" title="" dataFld=0:0 href="mailto:tthompson@newburyportchamber.org" target=_self><SPAN style="FONT-SIZE: small"><FONT size=2>Terry Thompson</FONT></SPAN></A><SPAN style="FONT-SIZE: small"><FONT size=2>.</FONT></SPAN></SPAN></P>
LOCATION:The Phoenix Room
UID:e.1189.1767
SEQUENCE:3
DTSTAMP:20260420T091446Z
URL:https://business.newburyportchamber.org/events/details/breakfast-speaker-series-02-04-2011-1767
END:VEVENT

END:VCALENDAR
