BEGIN:VCALENDAR
VERSION:2.0
PRODID:-//ChamberMaster//Event Calendar 2.0//EN
METHOD:PUBLISH
X-PUBLISHED-TTL:P3D
REFRESH-INTERVAL:P3D
CALSCALE:GREGORIAN
BEGIN:VEVENT
DTSTART:20100204T050000Z
DTEND:20100204T050000Z
X-MICROSOFT-CDO-ALLDAYEVENT:FALSE
SUMMARY:Breakfast Speaker Series
DESCRIPTION:Join us for the February Breakfast Speaker Series as newly elected Mayor Donna Holaday presents the State of the City address.\n\nReservations Required. Reservations not cancelled 24 hours prior to event will be charged.\n\nSeason Ticket Holders:\nTo register\, email Pam Marrese.\n\nThere have been a few changes to our monthly Breakfast Speaker Series. We are making the switch to a Continental Breakfast and lowering the price of admission. We hope to see you there!
X-ALT-DESC;FMTTYPE=text/html:<P><SPAN style="FONT-FAMILY: 'Century Gothic'"><SPAN style="FONT-SIZE: small"><FONT size=2>Join us&nbsp\;for the February Breakfast Speaker Series as&nbsp\;newly elected </FONT><FONT size=2>Mayor Donna Holaday&nbsp\;presents the State of the City address.<BR><BR></FONT></SPAN></SPAN><SPAN style="FONT-FAMILY: 'Century Gothic'"><SPAN style="FONT-SIZE: small"><FONT size=2><EM>Reservations&nbsp\;Required. Reservations not cancelled 24 hours prior to event will be charged.</EM><BR><BR>Season Ticket Holders:<BR>To register\, email </FONT></SPAN><A href="mailto:pmarrese@newburyportchamber.org"><SPAN style="FONT-SIZE: small"><FONT size=2>Pam Marrese</FONT></SPAN></A><SPAN style="FONT-SIZE: small"><FONT size=2>.<BR><BR><EM><FONT color=#0000ff>There have been a few changes to our monthly Breakfast Speaker Series. We are making the switch to a Continental Breakfast and lowering the price of admission. We hope to see you there!</FONT></EM></FONT></SPAN></SPAN></P>
LOCATION:Mission Oak Grill
UID:e.1189.1398
SEQUENCE:3
DTSTAMP:20260421T100058Z
URL:https://business.newburyportchamber.org/events/details/breakfast-speaker-series-02-04-2010-1398
END:VEVENT

END:VCALENDAR
