BEGIN:VCALENDAR
VERSION:2.0
PRODID:-//ChamberMaster//Event Calendar 2.0//EN
METHOD:PUBLISH
X-PUBLISHED-TTL:P3D
REFRESH-INTERVAL:P3D
CALSCALE:GREGORIAN
BEGIN:VEVENT
DTSTART:20110120T050000Z
DTEND:20110120T050000Z
X-MICROSOFT-CDO-ALLDAYEVENT:FALSE
SUMMARY:Breakfast Speaker Series
DESCRIPTION:Please join us for January's Breakfast Speaker Series. Getting Down to Business in 2011: Resources to Help Your Business Thrive.  Four of the region’s most knowledgeable  business resource experts will present an overview of  new -- and existing! – financial programs\, tools and resources available to business owners for making their businesses thrive in 2011. Panelists will include: Ken Goode\, Vice President\, MassDevelopment\; Lisa Gonzalez Welch\, Business Development Specialist at the Small Business Administration\; Christine Sullivan\, Executive Director of the Enterprise Center at Salem State University\; and Andre Porter\, Director of Massachusetts Office of Small Business and Entrepreneurship.\n\nReservations Required: Reservations not cancelled 24 hours prior to event will be charged.\n\nSeason Ticket Holders: To register\, email Terry Thompson.
X-ALT-DESC;FMTTYPE=text/html:<SPAN style="FONT-FAMILY: 'Century Gothic'"><SPAN style="FONT-SIZE: small"><SPAN style="FONT-FAMILY: 'Century Gothic'"><SPAN style="FONT-SIZE: small"><FONT size=2><FONT color=#000000><FONT color=#000000><SPAN style="FONT-FAMILY: 'Century Gothic'"><SPAN style="FONT-SIZE: small"><FONT size=2 face=Arial><SPAN style="COLOR: black"><P style="MARGIN: 0in 0in 0pt" class=MsoNormal><SPAN style="FONT-FAMILY: Calibri\; FONT-SIZE: 11pt">Please join us for January's Breakfast Speaker Series.</SPAN></P><P style="MARGIN: 0in 0in 0pt" class=MsoNormal><SPAN style="FONT-FAMILY: Calibri\; FONT-SIZE: 11pt"></SPAN>&nbsp\;</P><P style="MARGIN: 0in 0in 0pt" class=MsoNormal><SPAN style="FONT-FAMILY: Calibri\; FONT-SIZE: 11pt"><STRONG><FONT color=#000000>Getting Down to Business in 2011: Resources to Help Your Business Thrive.&nbsp\;</FONT></STRONG>&nbsp\;Four of the region’s most knowledgeable<SPAN style="mso-spacerun: yes">&nbsp\; </SPAN>business resource experts will present an overview of<SPAN style="mso-spacerun: yes">&nbsp\; </SPAN>new -- and existing! – financial programs\, tools and resources available to business owners for making their businesses thrive in 2011.<?xml:namespace prefix = o ns = "urn:schemas-microsoft-com:office:office" /><o:p></o:p></SPAN></P><P style="MARGIN: 0in 0in 0pt" class=MsoNormal><SPAN style="FONT-FAMILY: Calibri\; FONT-SIZE: 11pt"><o:p>&nbsp\;</o:p></SPAN></P><P style="MARGIN: 0in 0in 0pt" class=MsoNormal><SPAN style="FONT-FAMILY: Calibri\; FONT-SIZE: 11pt"><STRONG>Panelists will include: </STRONG></SPAN><SPAN style="FONT-FAMILY: Calibri\; FONT-SIZE: 11pt">Ken Goode\, Vice President\, MassDevelopment\; </SPAN><SPAN style="FONT-FAMILY: Calibri\; FONT-SIZE: 11pt">Lisa Gonzalez Welch\, Business Development Specialist at the Small Business Administration\;&nbsp\;Christine Sullivan\, Executive Director of the </SPAN><?xml:namespace prefix = st1 ns = "urn:schemas-microsoft-com:office:smarttags" /><st1:place><st1:PlaceName><SPAN style="FONT-FAMILY: Calibri\; FONT-SIZE: 11pt">Enterprise</SPAN></st1:PlaceName><SPAN style="FONT-FAMILY: Calibri\; FONT-SIZE: 11pt"> </SPAN><st1:PlaceType><SPAN style="FONT-FAMILY: Calibri\; FONT-SIZE: 11pt">Center</SPAN></st1:PlaceType></st1:place><SPAN style="FONT-FAMILY: Calibri\; FONT-SIZE: 11pt"> at </SPAN><st1:place><st1:PlaceName><SPAN style="FONT-FAMILY: Calibri\; FONT-SIZE: 11pt">Salem</SPAN></st1:PlaceName><SPAN style="FONT-FAMILY: Calibri\; FONT-SIZE: 11pt"> </SPAN><st1:PlaceType><SPAN style="FONT-FAMILY: Calibri\; FONT-SIZE: 11pt">State</SPAN></st1:PlaceType><SPAN style="FONT-FAMILY: Calibri\; FONT-SIZE: 11pt"> </SPAN><st1:PlaceType><SPAN style="FONT-FAMILY: Calibri\; FONT-SIZE: 11pt">University\; and Andre Porter\, Director of&nbsp\;Massachusetts Office of Small Business and Entrepreneurship.<BR><BR><STRONG>Reservations Required:</STRONG> Reservations not cancelled 24 hours prior to event will be charged.<BR><BR><STRONG>Season Ticket Holders: </STRONG>To register\, <A style="COLOR: black\; TEXT-DECORATION: underline" title="" dataFld=0:0 href="mailto:tthompson@newburyportchamber.org" target=_self>email Terry Thompson</A>.</SPAN></st1:PlaceType></st1:place></SPAN></FONT></SPAN></SPAN></FONT></FONT></FONT></SPAN></SPAN></P></SPAN></SPAN>
LOCATION:Mission Oak Grill
UID:e.1189.1654
SEQUENCE:3
DTSTAMP:20260420T110009Z
URL:https://business.newburyportchamber.org/events/details/breakfast-speaker-series-01-20-2011-1654
END:VEVENT

END:VCALENDAR
