BEGIN:VCALENDAR
VERSION:2.0
PRODID:-//ChamberMaster//Event Calendar 2.0//EN
METHOD:PUBLISH
X-PUBLISHED-TTL:P3D
REFRESH-INTERVAL:P3D
CALSCALE:GREGORIAN
BEGIN:VEVENT
DTSTART:20100114T050000Z
DTEND:20100114T050000Z
X-MICROSOFT-CDO-ALLDAYEVENT:FALSE
SUMMARY:Breakfast Speaker Series
DESCRIPTION:Please join us for Breakfast Speaker Series as we host Guest Speaker\, Peter Meade of the Edward M. Kennedy Institute.\n\nPeter Meade is the founding president and CEO of the Edward M. Kennedy Institute for the United States Senate\, a non-profit organization dedicated to educating the general public about the role and importance of the US Senate. He has been an influential voice in the region’s political and business worlds for decades.Reservations Required. Reservations not cancelled 24 hours prior to event will be charged.\n\nSeason Ticket Holders:\nTo register\, email Pam Marrese.\n\nThere have been a few changes to our monthly Breakfast Speaker Series! We are making the switch to a Continental Breakfast and lowering the price of admission. We hope to see you there!
X-ALT-DESC;FMTTYPE=text/html:<P><SPAN style="FONT-FAMILY: 'Century Gothic'"><SPAN style="FONT-SIZE: small"><FONT size=2>Please join us&nbsp\;for Breakfast Speaker Series as we host Guest Speaker\, Peter Meade of the </FONT><A style="COLOR: blue\; TEXT-DECORATION: underline" title="" dataFld=0:0 href="http://emkinstitute.org/" target=_NewWindow><FONT size=2>Edward M. Kennedy Institute</FONT></A>.<BR><BR><FONT size=2>Peter Meade is the founding president and CEO of the Edward M. Kennedy Institute for the United States Senate\, a non-profit organization dedicated to educating the general public about the role and importance of the US Senate. He has been an influential voice in the region’s political and business worlds for decades.</FONT></SPAN></SPAN></P><P><SPAN style="FONT-FAMILY: 'Century Gothic'"><SPAN style="FONT-SIZE: small"><FONT size=2><EM>Reservations&nbsp\;Required. Reservations not cancelled 24 hours prior to event will be charged.</EM><BR><BR>Season Ticket Holders:<BR>To register\, email </FONT></SPAN><A href="mailto:pmarrese@newburyportchamber.org"><SPAN style="FONT-SIZE: small"><FONT size=2>Pam Marrese</FONT></SPAN></A><SPAN style="FONT-SIZE: small"><FONT size=2>.<BR><BR><EM><FONT color=#0000ff>There have been a few changes to our monthly Breakfast Speaker Series! We are making the switch to a Continental Breakfast and lowering the price of admission. We hope to see you there!</FONT></EM></FONT></SPAN></SPAN></P>
LOCATION:The Phoenix Room
UID:e.1189.1361
SEQUENCE:3
DTSTAMP:20260421T113918Z
URL:https://business.newburyportchamber.org/events/details/breakfast-speaker-series-01-14-2010-1361
END:VEVENT

END:VCALENDAR
