BEGIN:VCALENDAR
VERSION:2.0
PRODID:-//ChamberMaster//Event Calendar 2.0//EN
METHOD:PUBLISH
X-PUBLISHED-TTL:P3D
REFRESH-INTERVAL:P3D
CALSCALE:GREGORIAN
BEGIN:VEVENT
DTSTART:20120202T123000Z
DTEND:20120202T140000Z
X-MICROSOFT-CDO-ALLDAYEVENT:FALSE
SUMMARY:Breakfast Series "The Business of Google - Innovation\, Collaboration and Culture in the Workplace"
DESCRIPTION:Steve Vinter - Director at Google\n\n \n\nThe dizzying pace of innovation with the Internet is changing the way we connect with people in our personal and professional lives\, the way we collaborate\, the opportunities we have to conduct business\, and the culture of our workplace. We'll explore how these four factors intersect in our work at Google\, from the perspective of how we collaborate and the services that we've launched\, and we'll attempt to draw insights into how innovation\, culture\, and collaboration are relevant to us all.
X-ALT-DESC;FMTTYPE=text/html:<span style="font-size: 14px"><span class="full-name"><span class="given-name">Steve</span> <span class="family-name">Vinter - </span></span></span><span style="font-size: 14px">Director at Google</span><br />\n<span _fck_bookmark="1" style="display: none">&nbsp\;</span><br />\n<span style="font-size: 14px">The dizzying pace of innovation with the Internet is changing the way we connect&nbsp\;with people in our personal and professional lives\, the way we collaborate\,&nbsp\;the opportunities we have to conduct&nbsp\;business\, and the culture of our workplace.&nbsp\;We&#39\;ll explore how these&nbsp\;four factors&nbsp\;intersect in our work at <a href="http://www.google.com"><strong><span style="color: #0000ff">Google\,</span></strong></a> from the&nbsp\;perspective of how we collaborate and the services that we&#39\;ve launched\, and we&#39\;ll attempt to draw insights into&nbsp\;how innovation\, culture\, and collaboration are relevant to us all.&nbsp\;&nbsp\;</span><br />\n
LOCATION:The Phoenix Room 19 Inn Street Newburyport\, MA
UID:e.1189.2414
SEQUENCE:3
DTSTAMP:20260419T141740Z
URL:https://business.newburyportchamber.org/events/details/breakfast-series-the-business-of-google-innovation-collaboration-and-culture-in-the-workplace-02-02-2012-2414
END:VEVENT

END:VCALENDAR
