BEGIN:VCALENDAR
VERSION:2.0
PRODID:-//ChamberMaster//Event Calendar 2.0//EN
METHOD:PUBLISH
X-PUBLISHED-TTL:P3D
REFRESH-INTERVAL:P3D
CALSCALE:GREGORIAN
BEGIN:VEVENT
DTSTART:20091210T050000Z
DTEND:20091210T050000Z
X-MICROSOFT-CDO-ALLDAYEVENT:FALSE
SUMMARY:Breakfast Forum Series
DESCRIPTION:Please join us for the December Breakfast Forum!Insights into the Markets and Economy: Impacts on Wall Street and Main Street ... and State Street.This is the third time Provident Advisory Group has had the opportunity to sponsor Jeffrey Knight CFA\, head of Global Asset Allocation at Putnam Investments\, and son of Newburyport.  Jeff directly manages over billions in client assets and recently has lead Putnam's introduction and management of absolute-return funds. Reservations Required.\nPlease note: reservations not cancelled 24 hours prior to event will be charged. Season Ticket Holders:\nTo register\, email Pam Marrese.
X-ALT-DESC;FMTTYPE=text/html:<P><SPAN style="FONT-SIZE: 10pt\; FONT-FAMILY: Arial">Please join us for the December Breakfast Forum!</SPAN></P><P><SPAN style="FONT-SIZE: 10pt\; FONT-FAMILY: Arial"><SPAN><SPAN></SPAN></SPAN></SPAN><SPAN style="FONT-SIZE: 10pt\; FONT-FAMILY: Arial"><SPAN><SPAN><STRONG>Insights into the Markets and Economy: Impacts on Wall Street and Main Street ... and State Street.</STRONG></SPAN></SPAN></SPAN><SPAN style="FONT-SIZE: 10pt\; FONT-FAMILY: Arial"><SPAN><SPAN></P><P class=MsoNormal style="MARGIN: 0in 0in 0pt"><SPAN style="FONT-SIZE: 11pt\; FONT-FAMILY: Arial"><FONT size=2>This is the third time Provident Advisory Group has had the opportunity to sponsor Jeffrey Knight CFA\, head of Global Asset Allocation at <A dataFld=0:0 title="" style="COLOR: blue\; TEXT-DECORATION: underline" href="http://www.putnam.com/" target=_NewWindow>Putnam Investments</A>\, and son of Newburyport.&nbsp\; Jeff directly manages over billions in client assets and recently has lead Putnam's introduction and management of absolute-return funds.</FONT></SPAN></P><P class=MsoNormal style="MARGIN: 0in 0in 0pt"><SPAN style="FONT-SIZE: 11pt\; FONT-FAMILY: Arial"></SPAN></SPAN></SPAN></SPAN>&nbsp\;</P><SPAN style="FONT-SIZE: 10pt\; FONT-FAMILY: Arial"><SPAN><SPAN><P class=MsoPlainText style="MARGIN: 0in 0in 0pt"></SPAN></SPAN></SPAN><STRONG><SPAN style="FONT-SIZE: 10pt\; FONT-FAMILY: Arial">Reservations&nbsp\;Required.</SPAN></STRONG><B><SPAN style="FONT-SIZE: 10pt\; FONT-FAMILY: Arial"><BR></SPAN></B><SPAN style="FONT-SIZE: 10pt\; FONT-FAMILY: Arial"><FONT color=#ff0000>Please note: reservations not cancelled 24 hours prior to event will be charged.</FONT></SPAN></P><P class=MsoNormal style="MARGIN: 0in 0in 0pt"><SPAN style="FONT-SIZE: 10pt\; FONT-FAMILY: Arial"><FONT color=#ff0000><SPAN><STRONG><FONT color=#000000 size=2></FONT></STRONG></SPAN></FONT></SPAN>&nbsp\;</P><P class=MsoNormal style="MARGIN: 0in 0in 0pt"><SPAN style="FONT-SIZE: 10pt\; FONT-FAMILY: Arial"><FONT color=#ff0000><SPAN><STRONG><FONT color=#000000>Season Ticket Holders:<BR></FONT></STRONG></SPAN><SPAN style="FONT-SIZE: 10pt\; FONT-FAMILY: Arial"><FONT color=#000000>To register\, email </FONT><A href="mailto:pmarrese@newburyportchamber.org">Pam Marrese</A><FONT color=#000000>.</FONT></SPAN></FONT></SPAN></P>
LOCATION:The Phoenix Room
UID:e.1189.1344
SEQUENCE:3
DTSTAMP:20260421T131845Z
URL:https://business.newburyportchamber.org/events/details/breakfast-forum-series-12-10-2009-1344
END:VEVENT

END:VCALENDAR
