BEGIN:VCALENDAR
VERSION:2.0
PRODID:-//ChamberMaster//Event Calendar 2.0//EN
METHOD:PUBLISH
X-PUBLISHED-TTL:P3D
REFRESH-INTERVAL:P3D
CALSCALE:GREGORIAN
BEGIN:VEVENT
DTSTART:20091105T050000Z
DTEND:20091105T050000Z
X-MICROSOFT-CDO-ALLDAYEVENT:FALSE
SUMMARY:Breakfast Forum Series
DESCRIPTION:Please join us for the November Breakfast Forum!Guest speaker: Author\, Steve Cone\nTopic: Marketing UP in a Down Economy - How to outsmart bigger competitors\, or any competitors*  Learn what's wrong with marketing today and how most promotional dollars are wasted.*  Get practical advice to execute immediately\, and at low or no incremental cost.*  Learn the 7 principles of success that aren't taught anywhere.*  Learn the importance of having a distinctive unique selling proposition.*  Why you should never ever listen to an art director.*  And the two most important words to remember every time you promote your company. With more than thirty-five years at the top of the profession\, Steve Cone\, chief marketing officer for Epsilon\, a leading provider of data-driven marketing technologies\, has led campaigns for many companies including Citigroup\, American Express\, Fidelity\, Apple\, and United Airlines\, as well as environmental groups\, and presidential campaigns for both major parties. Known for his innovative thinking and actionable ideas.  Lecturing worldwide at leading universities and to business groups on the proven marketing principles laid out in this first book\, “Steal These Ideas: Marketing Secrets that will Make You a Star!”\, he will be sharing with us his knowledge specific to a small business market. Reservations Required.\nPlease note: reservations not cancelled 24 hours prior to event will be charged.Season Ticket Holders:\nTo register\, email Pam Marrese.
X-ALT-DESC;FMTTYPE=text/html:<FONT size=2><P><SPAN style="FONT-SIZE: 10pt\; FONT-FAMILY: Arial">Please join us for the November Breakfast Forum!</SPAN></P><P><SPAN style="FONT-SIZE: 10pt\; FONT-FAMILY: Arial"><SPAN><SPAN><FONT size=2><STRONG>Guest speaker:</STRONG> A</FONT></SPAN></SPAN></SPAN><SPAN style="FONT-SIZE: 10pt\; FONT-FAMILY: Arial"><SPAN><SPAN><FONT size=2>uthor\,&nbsp\;Steve Cone<BR><STRONG>Topic:</STRONG> </FONT></SPAN></SPAN></SPAN><SPAN style="FONT-SIZE: 10pt\; FONT-FAMILY: Arial"><SPAN><SPAN><SPAN style="FONT-SIZE: 10pt\; FONT-FAMILY: Arial">Marketing UP in a Down Economy - </SPAN><SPAN style="FONT-SIZE: 10pt\; FONT-FAMILY: Arial"><EM>How&nbsp\;to outsmart bigger competitors\, or any competitors</EM></SPAN></P><P class=MsoPlainText style="MARGIN: 0in 0in 0pt"><SPAN style="FONT-SIZE: 10pt\; FONT-FAMILY: Arial">*&nbsp\; Learn what's wrong with marketing today and how most promotional dollars are wasted.<?xml:namespace prefix = o ns = "urn:schemas-microsoft-com:office:office" /><o:p></o:p></SPAN></P><P class=MsoPlainText style="MARGIN: 0in 0in 0pt"><SPAN style="FONT-SIZE: 10pt\; FONT-FAMILY: Arial">*&nbsp\; Get practical advice&nbsp\;to execute immediately\, and&nbsp\;at low or no incremental cost.<o:p></o:p></SPAN></P><P class=MsoPlainText style="MARGIN: 0in 0in 0pt"><SPAN style="FONT-SIZE: 10pt\; FONT-FAMILY: Arial">*&nbsp\; Learn the 7 principles of success that aren't taught anywhere.<o:p></o:p></SPAN></P><P class=MsoPlainText style="MARGIN: 0in 0in 0pt"><SPAN style="FONT-SIZE: 10pt\; FONT-FAMILY: Arial">*&nbsp\; Learn the importance of having a distinctive unique selling proposition.<o:p></o:p></SPAN></P><P class=MsoPlainText style="MARGIN: 0in 0in 0pt"><SPAN style="FONT-SIZE: 10pt\; FONT-FAMILY: Arial">*&nbsp\; Why you should never ever listen to an art director.<o:p></o:p></SPAN></P><P class=MsoPlainText style="MARGIN: 0in 0in 0pt"><SPAN style="FONT-SIZE: 10pt\; FONT-FAMILY: Arial">*&nbsp\; And the two most important words to remember every time you promote your company.</SPAN></P><P class=MsoPlainText style="MARGIN: 0in 0in 0pt"><SPAN style="FONT-SIZE: 10pt\; FONT-FAMILY: Arial"></SPAN>&nbsp\;</P><P class=MsoPlainText style="MARGIN: 0in 0in 0pt"><SPAN style="FONT-SIZE: 10pt\; FONT-FAMILY: Arial"><FONT color=#000000>W<FONT face=Arial size=2><SPAN style="FONT-SIZE: 10pt\; FONT-FAMILY: Arial">ith more than thirty-five years at the top of the profession\, Steve Cone\, chief marketing officer for Epsilon\, a leading provider of data-driven marketing technologies\, has led campaigns for many companies including Citigroup\, American Express\, Fidelity\, Apple\, and United Airlines\, as well as environmental groups\, and presidential campaigns for both major parties. </SPAN></FONT>Known for his innovative thinking and actionable ideas.&nbsp\; Lecturing worldwide at leading universities and to business groups on the proven marketing principles laid out in this first book\, “Steal These Ideas: Marketing Secrets that will Make You a Star!”\, he will be sharing with us his knowledge specific to a small business market.</FONT></SPAN></P><P class=MsoPlainText style="MARGIN: 0in 0in 0pt"><SPAN style="FONT-SIZE: 10pt\; FONT-FAMILY: Arial"></SPAN></SPAN></SPAN></SPAN>&nbsp\;</P><P class=MsoPlainText style="MARGIN: 0in 0in 0pt"><STRONG><SPAN style="FONT-SIZE: 10pt\; FONT-FAMILY: Arial">Reservations&nbsp\;Required.</SPAN></STRONG><B><SPAN style="FONT-SIZE: 10pt\; FONT-FAMILY: Arial"><BR></SPAN></B><SPAN style="FONT-SIZE: 10pt\; FONT-FAMILY: Arial"><FONT color=#ff0000>Please note: reservations not cancelled 24 hours prior to event will be charged.</FONT></SPAN></P><P class=MsoNormal style="MARGIN: 0in 0in 0pt"><SPAN style="FONT-SIZE: 10pt\; FONT-FAMILY: Arial"><FONT color=#ff0000><SPAN><STRONG><FONT color=#000000>Season Ticket Holders:<BR></FONT></STRONG></SPAN><SPAN style="FONT-SIZE: 10pt\; FONT-FAMILY: Arial"><FONT color=#000000>To register\, email </FONT><A href="mailto:pmarrese@newburyportchamber.org">Pam Marrese</A><FONT color=#000000>.</FONT></SPAN></FONT></SPAN></FONT></P>
LOCATION:Mission Oak Grill
UID:e.1189.1332
SEQUENCE:3
DTSTAMP:20260421T150939Z
URL:https://business.newburyportchamber.org/events/details/breakfast-forum-series-11-05-2009-1332
END:VEVENT

END:VCALENDAR
