BEGIN:VCALENDAR
VERSION:2.0
PRODID:-//ChamberMaster//Event Calendar 2.0//EN
METHOD:PUBLISH
X-PUBLISHED-TTL:P3D
REFRESH-INTERVAL:P3D
CALSCALE:GREGORIAN
BEGIN:VEVENT
DTSTART:20091001T040000Z
DTEND:20091001T040000Z
X-MICROSOFT-CDO-ALLDAYEVENT:FALSE
SUMMARY:Breakfast Forum Series
DESCRIPTION:Please join us for an enlightening conversation on the efforts to build a Greener\, Greater Newburyport.A Greener\, Greater Newburyport - What's Ahead\n\nWe are honored to have Joanne Bissetta as our guest speaker from Massachusetts Department of Energy Resources (DOER).  Ms. Bissetta was appointed by the Patrick Administration to act as the Northeast Regional Coordinator for the DOER Green Communities Division. She will outline the activities at the federal\, state and local levels designed to promote sustainability. She will talk about the potential impact on local businesses of these activities.Molly Ettenborough\, the City Recycling Coordinator\, will address the breakfast and will bring us up to speed on efforts being done in assuring that Newburyport makes progress to becoming classified as a "Green Community" by DOER. Molly will talk about where we are to date\, as a city\, on our path towards sustainability.Reservations Required.\nPlease note: reservations not cancelled 24 hours prior to event will be charged.Season Ticket Holders:\nTo register\, email Pam Marrese.
X-ALT-DESC;FMTTYPE=text/html:<FONT face=Arial size=2><P><SPAN style="FONT-SIZE: 10pt\; FONT-FAMILY: Arial">Please join us for an enlightening conversation on the efforts to build a Greener\, Greater Newburyport.</SPAN></P><SPAN style="FONT-SIZE: 10pt\; FONT-FAMILY: Arial"><SPAN><SPAN><FONT size=2><P><STRONG>A Greener\, Greater Newburyport - What's Ahead<BR></STRONG><STRONG><BR></STRONG><FONT size=2>We are honored to have Joanne Bissetta as our guest speaker from Massachusetts Department of Energy Resources (DOER).&nbsp\; Ms. Bissetta was appointed by the Patrick Administration to act as the Northeast Regional Coordinator for the&nbsp\;DOER Green Communities Division. She will outline the activities at the federal\, state and local levels designed to promote sustainability. She will talk about the potential impact on local businesses of these activities.</P><P>Molly Ettenborough\, the City Recycling Coordinator\, will address the breakfast and will bring us up to speed on efforts being done in assuring that Newburyport makes progress to becoming classified as a "Green Community" by DOER. Molly will talk about where we are to date\, as a city\, on our path towards sustainability.</P></FONT></FONT></SPAN></SPAN></SPAN><SPAN style="FONT-SIZE: 10pt\; FONT-FAMILY: Arial"><P></SPAN><STRONG><SPAN style="FONT-SIZE: 10pt\; FONT-FAMILY: Arial">Reservations&nbsp\;Required.</SPAN></STRONG><B><SPAN style="FONT-SIZE: 10pt\; FONT-FAMILY: Arial"><BR></SPAN></B><SPAN style="FONT-SIZE: 10pt\; FONT-FAMILY: Arial"><FONT color=#ff0000>Please note: reservations not cancelled 24 hours prior to event will be charged.</FONT></SPAN></P><P class=MsoNormal style="MARGIN: 0in 0in 0pt"><SPAN style="FONT-SIZE: 10pt\; FONT-FAMILY: Arial"><FONT color=#ff0000><SPAN><STRONG><FONT color=#000000>Season Ticket Holders:<BR></FONT></STRONG></SPAN><SPAN style="FONT-SIZE: 10pt\; FONT-FAMILY: Arial"><FONT color=#000000>To register\, email </FONT><A href="mailto:pmarrese@newburyportchamber.org">Pam Marrese</A><FONT color=#000000>.</FONT></SPAN></FONT></SPAN></FONT></P>
LOCATION:Mission Oak Grill
UID:e.1189.1294
SEQUENCE:3
DTSTAMP:20260421T165423Z
URL:https://business.newburyportchamber.org/events/details/breakfast-forum-series-10-01-2009-1294
END:VEVENT

END:VCALENDAR
