BEGIN:VCALENDAR
VERSION:2.0
PRODID:-//ChamberMaster//Event Calendar 2.0//EN
METHOD:PUBLISH
X-PUBLISHED-TTL:P3D
REFRESH-INTERVAL:P3D
CALSCALE:GREGORIAN
BEGIN:VEVENT
DTSTART:20101104T040000Z
DTEND:20101114T050000Z
X-MICROSOFT-CDO-ALLDAYEVENT:FALSE
SUMMARY:Boxed In
DESCRIPTION:Thur-Sat at 8pm\; 3p only on Sundays. New play by Stephen Faria looks at one man's struggle at the end of his life to edit what he leaves behind in order to control how he is remembered. At first glimpse this play\, directed by Stephen Haley\, is about loss. Each generation finds a different reason to close their hearts\, to protect themselves from the pain of loss. But discovery and loss\, like birth and death are the inevitable bookends to what comes in between: living. We must open ourselves to the pain of loss in order to discover the joys of friendship\, trust\, and love. This event is presented by the Firehouse.This play has strong language and may not be suitable for young children.Tickets: Adults $18\; Students & Seniors $16\;Members $14
X-ALT-DESC;FMTTYPE=text/html:Thur-Sat at 8pm\; 3p only on Sundays. New play by Stephen Faria looks at one man's struggle at the end of his life to edit what he leaves behind in order to control how he is remembered. At first glimpse this play\, directed by Stephen Haley\, is about loss. Each generation finds a different reason to close their hearts\, to protect themselves from the pain of loss. But discovery and loss\, like birth and death are the inevitable bookends to what comes in between: living. We must open ourselves to the pain of loss in order to discover the joys of friendship\, trust\, and love. This event is presented by the Firehouse.This play has strong language and may not be suitable for young children.Tickets: Adults $18\; Students &amp\; Seniors $16\;Members $14
LOCATION:Firehouse Center for the Arts
UID:e.1189.1635
SEQUENCE:3
DTSTAMP:20260420T141850Z
URL:https://business.newburyportchamber.org/events/details/boxed-in-11-04-2010-1635
END:VEVENT

END:VCALENDAR
