BEGIN:VCALENDAR
VERSION:2.0
PRODID:-//ChamberMaster//Event Calendar 2.0//EN
METHOD:PUBLISH
X-PUBLISHED-TTL:P3D
REFRESH-INTERVAL:P3D
CALSCALE:GREGORIAN
BEGIN:VEVENT
DTSTART:20110819T113000Z
DTEND:20110819T130000Z
X-MICROSOFT-CDO-ALLDAYEVENT:FALSE
SUMMARY:Board of Directors Meeting
DESCRIPTION:Monthly meeting of the Board of Directors. Email all RSVP's to Ann Ormond at aormond@newburyportchamber.org
X-ALT-DESC;FMTTYPE=text/html:<DIV style="FONT-FAMILY: Arial">Monthly meeting of the Board of Directors.</DIV><DIV style="FONT-FAMILY: Arial">&nbsp\;</DIV><DIV style="FONT-FAMILY: Arial">Email all RSVP's to Ann Ormond at <A href="mailto:aormond@newburyportchamber.org">aormond@newburyportchamber.org</A></DIV><DIV style="FONT-FAMILY: Arial">&nbsp\;</DIV>
LOCATION:Anna Jaques Hospital
UID:e.1189.1710
SEQUENCE:3
DTSTAMP:20260419T224637Z
URL:https://business.newburyportchamber.org/events/details/board-of-directors-meeting-08-19-2011-1710
END:VEVENT

END:VCALENDAR
