BEGIN:VCALENDAR
VERSION:2.0
PRODID:-//ChamberMaster//Event Calendar 2.0//EN
METHOD:PUBLISH
X-PUBLISHED-TTL:P3D
REFRESH-INTERVAL:P3D
CALSCALE:GREGORIAN
BEGIN:VEVENT
DTSTART:20111113T010000Z
DTEND:20111113T030000Z
X-MICROSOFT-CDO-ALLDAYEVENT:FALSE
SUMMARY:Bluegrass Concert - Belleville Congregational Church
DESCRIPTION:Della Mae will perform a bluegrass concert at the Belleville Congrregational Church\, 300 High Street\, Newburyport on Saturday\, Nov. 12th\, 2011 at 8 PM. Della Mae was born from a yearning for a traditional bluegrass sound in the heart of New England. Della Mae strives to create a mussic that tells a story delivering a punch.\n\n\n\nDella Mae's musical style blends years of experience with traditional mountain music and modern-singer-songwriter sensibilities. With energetic live performances and award winning instrumental abilities\, the women of Della Mae are turning heads.\n\n\n\nTickets are available at Dyno Records\, 1 Middle St.\, Newburyport\, MA\, at Belleville Congregational Church on Tuesday\, Thursday and Friday mornings from 9 AM to 1 PM\, via the church website at www.bellevillechurch.org/music.php or\, if available\, at the door.
X-ALT-DESC;FMTTYPE=text/html:Della Mae will perform a bluegrass concert at the Belleville Congrregational Church\, 300 High Street\, Newburyport on Saturday\, Nov. 12th\, 2011 at 8 PM. Della Mae was born from a yearning for a traditional bluegrass sound in the heart of New England. Della Mae strives to create a mussic that tells a story delivering a punch.<br />\n<br />\nDella Mae&#39\;s musical style blends years of experience with traditional mountain music and modern-singer-songwriter sensibilities. With energetic live performances and award winning instrumental abilities\, the women of Della Mae are turning heads.<br />\n<br />\nTickets are available at Dyno Records\, 1 Middle St.\, Newburyport\, MA\, at Belleville Congregational Church on Tuesday\, Thursday and Friday mornings from 9 AM to 1 PM\, via the church website at <a href="http://www.bellevillechurch.org/music.php">www.bellevillechurch.org/music.php</a> or\, if available\, at the door.<br />\n
LOCATION:Belleville Congregational Church Stage Room\, 300 High Street Newburyport
UID:e.1189.2318
SEQUENCE:3
DTSTAMP:20260419T191953Z
URL:https://business.newburyportchamber.org/events/details/bluegrass-concert-belleville-congregational-church-11-12-2011-2318
END:VEVENT

END:VCALENDAR
