BEGIN:VCALENDAR
VERSION:2.0
PRODID:-//ChamberMaster//Event Calendar 2.0//EN
METHOD:PUBLISH
X-PUBLISHED-TTL:P3D
REFRESH-INTERVAL:P3D
CALSCALE:GREGORIAN
BEGIN:VEVENT
DTSTART:20120211T003000Z
DTEND:20120212T013000Z
X-MICROSOFT-CDO-ALLDAYEVENT:FALSE
SUMMARY:Blown Away at Firehouse Center for the Arts
DESCRIPTION:Charles Schulz's iconic characters come to life on stage in Blown Away\, an original play written and directed by Stacey April Fix. Featuring an all-child cast\, Snoopy\, Charlie Brown\, Lucy and the whole gang share in this fast-paced show of vignettes that charm the audience with dance\, song\, and laughs. A wonderfully endearing slice of Americana\, the Peanuts comic strip delights us with precocious children interacting in a world where adults are never seen.\n\n	Adventures of friendship\, love and loss unfold when: Linus's blanket is made into a kite and blows away\, Lucy analyses her unrequited love for Schroeder\, and the uncelebrated-hero Charlie Brown plods his way through trials and tribulations with his best friend Snoopy by his side. Blown Away is an original script inspired by the actual Peanuts comic strips which appeared in over 2\,600 newspapers from 1950- 2000\, and helped to establish the 4-panel gag-strip that is unique to American comics. This production has all the magic\, costumes and theatrical elements to keep today's young audience engaged and adults feeling sentimental and completely entertained.\n\n	Stacey April Fix has a long history of staging popular productions at the Firehouse. Camp Pirate\, Good Fortunes\, Into the Act and Storyville Detectives are just a few of her earlier shows that wowed audiences with her creative costuming and set design. Blown Away is sure to be another hit!
X-ALT-DESC;FMTTYPE=text/html:<p class="eventtext">\n	Charles Schulz&#39\;s iconic characters come to life on stage in <em>Blown Away</em>\, an original play written and directed by <strong>Stacey April Fix</strong>. Featuring an all-child cast\, Snoopy\, Charlie Brown\, Lucy and the whole gang share in this fast-paced show of vignettes that charm the audience with dance\, song\, and laughs. A wonderfully endearing slice of Americana\, the Peanuts comic strip delights us with precocious children interacting in a world where adults are never seen.</p>\n<p class="eventtext">\n	Adventures of friendship\, love and loss unfold when: Linus&#39\;s blanket is made into a kite and blows away\, Lucy analyses her unrequited love for Schroeder\, and the uncelebrated-hero Charlie Brown plods his way through trials and tribulations with his best friend Snoopy by his side. <em>Blown Away</em> is an original script inspired by the actual <em>Peanuts</em> comic strips which appeared in over 2\,600 newspapers from 1950- 2000\, and helped to establish the 4-panel gag-strip that is unique to American comics. This production has all the magic\, costumes and theatrical elements to keep today&#39\;s young audience engaged and adults feeling sentimental and completely entertained.</p>\n<p class="eventtext">\n	<strong>Stacey April Fix</strong> has a long history of staging popular productions at the Firehouse. <em>Camp Pirate</em>\, <em>Good Fortunes</em>\, <em>Into the Act</em> and <em>Storyville Detectives</em> are just a few of her earlier shows that wowed audiences with her creative costuming and set design. <em>Blown Away</em> is sure to be another hit!</p>\n
LOCATION:Firehouse Center for the Arts Market Square Newburyport MA 01950
UID:e.1189.2406
SEQUENCE:3
DTSTAMP:20260419T141446Z
URL:https://business.newburyportchamber.org/events/details/blown-away-at-firehouse-center-for-the-arts-02-10-2012-2406
END:VEVENT

END:VCALENDAR
