BEGIN:VCALENDAR
VERSION:2.0
PRODID:-//ChamberMaster//Event Calendar 2.0//EN
METHOD:PUBLISH
X-PUBLISHED-TTL:P3D
REFRESH-INTERVAL:P3D
CALSCALE:GREGORIAN
BEGIN:VEVENT
DTSTART:20090506T040000Z
DTEND:20090506T040000Z
X-MICROSOFT-CDO-ALLDAYEVENT:FALSE
SUMMARY:Biz Development Ed Series - Breaches in Privacy & Security
DESCRIPTION:Breaches in  Privacy & Security: What the Ramifications are for  YOUR Business\nSponsored by Chase & Lunt Insurance Wednesday\, May 6 7:45am Registration8:00am - 9:30 Presentation begins promptly Over the past 2.5 years\, over 227 million sensitive records have been involved in privacy breaches in the U.S. Causes such as lost or stolen laptops\, employee theft\, missing paper files and web hackers.   Learn about the new laws requiring identity theft prevention programs and what the legal and financial ramifications are for you and your business in the event of a security breach. \n\nPresented by: \nDave Perkins\, S.H. Smith & Company\, Inc.Location: Institution for Savings Lending Center\, State Street. Enter through side entrance on Prospect Street.\nPlease do not park in the bank parking lot. Plenty of space on street or in municpal lot near library.Members: Free AdmissionNon Members: $20
X-ALT-DESC;FMTTYPE=text/html:<DIV><P class=MsoNormal><FONT color=#0f0f0f></FONT><P class=MsoNormal><FONT face="Times New Roman" color=#0f0f0f><SPAN style="FONT-SIZE: 12pt"></SPAN></FONT></P><FONT face=Arial><FONT size=2><FONT color=#ff0000 size=3><P class=MsoNormal style="MARGIN: 0in 0in 0pt"><SPAN style="FONT-SIZE: 10pt\; FONT-FAMILY: Arial"><FONT size=3><FONT face=Georgia color=#663300><SPAN style="FONT-SIZE: 12pt\; COLOR: #663300\; FONT-FAMILY: Georgia"><STRONG>Breaches in&nbsp\;</STRONG><SPAN class=802235913-06042009><FONT face=Arial color=#0000ff size=2>&nbsp\;<FONT face=Georgia color=#663300 size=3><STRONG>Privacy &amp\; </STRONG></FONT></FONT></SPAN><STRONG>Security</STRONG><SPAN class=802235913-06042009><FONT face=Arial color=#0000ff size=2><FONT face=Georgia color=#663300 size=3><STRONG>: </STRONG></FONT></FONT></SPAN><STRONG>What the Ramifications are for&nbsp\;</STRONG><SPAN class=802235913-06042009><FONT face=Arial color=#0000ff size=2>&nbsp\;<FONT face=Georgia><FONT color=#663300 size=3><STRONG>YOUR</STRONG></FONT></FONT></FONT></SPAN><STRONG> Business</STRONG></SPAN></FONT><BR></P><P class=MsoNormal style="MARGIN: 0in 0in 0pt"><SPAN style="FONT-SIZE: 10pt\; FONT-FAMILY: Arial"><FONT color=#0000a0 size=3><STRONG>Sponsored by Chase &amp\; Lunt Insurance</STRONG></FONT></SPAN></P><P class=MsoNormal style="MARGIN: 0in 0in 0pt"><SPAN style="FONT-SIZE: 10pt\; FONT-FAMILY: Arial"></SPAN>&nbsp\;</P></FONT></SPAN><P class=MsoNormal style="MARGIN: 0in 0in 0pt"><SPAN style="FONT-SIZE: 10pt\; FONT-FAMILY: Arial"><FONT color=#000000>Wednesday\, May 6</FONT></SPAN></P><P class=MsoNormal style="MARGIN: 0in 0in 0pt"><SPAN style="FONT-SIZE: 10pt\; FONT-FAMILY: Arial"><FONT color=#000000></FONT></SPAN>&nbsp\;</P><P class=MsoNormal style="MARGIN: 0in 0in 0pt"><FONT color=#000000><?xml:namespace prefix = st1 ns = "urn:schemas-microsoft-com:office:smarttags" /><st1:time Hour="7" Minute="45"><SPAN style="FONT-SIZE: 10pt\; FONT-FAMILY: Arial">7:45am Registration</SPAN></st1:time></FONT></P><P class=MsoNormal style="MARGIN: 0in 0in 0pt"><FONT color=#000000><st1:time Hour="7" Minute="45"><SPAN style="FONT-SIZE: 10pt\; FONT-FAMILY: Arial">8:00am - 9:30 Presentation begins promptly</SPAN></st1:time></FONT></P><P class=MsoNormal style="MARGIN: 0in 0in 0pt"><FONT color=#000000><st1:time Hour="7" Minute="45"><SPAN style="FONT-SIZE: 10pt\; FONT-FAMILY: Arial"></SPAN></st1:time></FONT><SPAN style="FONT-SIZE: 10pt\; FONT-FAMILY: Arial"><FONT color=#000000><FONT face=Georgia color=#663300 size=2><FONT face=Georgia color=#663300><SPAN style="FONT-SIZE: 10pt\; COLOR: #663300\; FONT-FAMILY: Georgia"></SPAN></FONT></FONT></FONT></SPAN>&nbsp\;</P><P class=MsoNormal style="MARGIN: 0in 0in 0pt"><SPAN style="FONT-SIZE: 10pt\; FONT-FAMILY: Arial"><FONT color=#000000><FONT face=Georgia color=#663300 size=2><FONT face=Georgia color=#663300><SPAN style="FONT-SIZE: 10pt\; COLOR: #663300\; FONT-FAMILY: Georgia">Over the past 2.5 years\, over 227 million sensitive records have been involved in privacy breaches in the </SPAN></FONT><FONT face=Georgia color=#663300><SPAN style="FONT-SIZE: 10pt\; COLOR: #663300\; FONT-FAMILY: Georgia">U.S. Causes such as lost or stolen laptops\, employee theft\, missing paper files and web hackers.<SPAN class=802235913-06042009><FONT face=Arial color=#0000ff>&nbsp\;&nbsp\; </FONT></SPAN></SPAN></FONT></P><P><FONT face=Georgia color=#663300><SPAN style="FONT-SIZE: 10pt\; COLOR: #663300\; FONT-FAMILY: Georgia">Learn about the new laws requiring identity theft prevention programs and what the legal and financial ramifications are for you and your business in the event of a security breach. <BR></SPAN></FONT></FONT><FONT face=Georgia color=#663300 size=2><BR></FONT></FONT></SPAN></FONT></FONT></FONT><FONT face=Arial><FONT size=2><FONT color=#ff0000 size=3><SPAN style="FONT-SIZE: 10pt\; FONT-FAMILY: Arial"><FONT color=#000000><FONT face=Georgia color=#663300 size=2><STRONG>Presented by:&nbsp\;<BR></STRONG></FONT></FONT></SPAN></FONT></FONT></FONT><FONT face=Arial><FONT size=2><FONT color=#ff0000 size=3><SPAN style="FONT-SIZE: 10pt\; FONT-FAMILY: Arial"><FONT color=#000000><FONT face=Georgia color=#663300 size=2>Dave Perkins\, S.H. Smith &amp\; Company\, Inc.</P></DIV><DIV><P align=left></FONT></FONT></SPAN><SPAN style="FONT-SIZE: 10pt\; FONT-FAMILY: Arial"><FONT color=#000000><STRONG>Location:</STRONG> Institution for Savings Lending Center\, State Street. Enter through side entrance on Prospect Street.<BR></FONT></SPAN><SPAN style="FONT-SIZE: 10pt\; FONT-FAMILY: Arial"><FONT color=#000000><STRONG><EM><FONT color=#ff0000>Please do not park in the bank parking lot.</FONT></EM></STRONG> Plenty of space on street or in municpal lot near library.</FONT></SPAN></P><P class=MsoNormal style="MARGIN: 0in 0in 0pt"><P class=MsoNormal style="MARGIN: 0in 0in 0pt"><FONT size=2></FONT></P><P></P><P class=MsoNormal style="MARGIN: 0in 0in 0pt"><SPAN style="FONT-SIZE: 10pt\; FONT-FAMILY: Arial"><?xml:namespace prefix = o ns = "urn:schemas-microsoft-com:office:office" /><o:p><FONT color=#000000><STRONG><EM>Members: Free Admission</EM></STRONG></FONT></o:p></SPAN></P><P class=MsoNormal style="MARGIN: 0in 0in 0pt"><SPAN style="FONT-SIZE: 10pt\; FONT-FAMILY: Arial"><o:p></o:p></SPAN></P><P class=MsoNormal style="MARGIN: 0in 0in 0pt"><STRONG><FONT color=#000000><st1:City><st1:place><I style="mso-bidi-font-style: normal"><SPAN style="FONT-SIZE: 10pt\; FONT-FAMILY: Arial">Non Members: $20</SPAN></I></st1:place></st1:City></FONT></STRONG></P><P class=MsoNormal style="MARGIN: 0in 0in 0pt"><STRONG><FONT color=#000000><st1:City><st1:place><I style="mso-bidi-font-style: normal"><SPAN style="FONT-SIZE: 10pt\; FONT-FAMILY: Arial"></SPAN></I></st1:place></st1:City></FONT></STRONG>&nbsp\;</P><P class=MsoNormal style="MARGIN: 0in 0in 0pt"><SPAN style="FONT-SIZE: 10pt\; FONT-FAMILY: Arial"></SPAN></FONT></FONT></FONT>&nbsp\;</P></DIV>
LOCATION:Institution for Savings Lending Center
UID:e.1189.1211
SEQUENCE:3
DTSTAMP:20260422T005843Z
URL:https://business.newburyportchamber.org/events/details/biz-development-ed-series-breaches-in-privacy-security-05-06-2009-1211
END:VEVENT

END:VCALENDAR
