BEGIN:VCALENDAR
VERSION:2.0
PRODID:-//ChamberMaster//Event Calendar 2.0//EN
METHOD:PUBLISH
X-PUBLISHED-TTL:P3D
REFRESH-INTERVAL:P3D
CALSCALE:GREGORIAN
BEGIN:VEVENT
DTSTART:20231012T230000Z
DTEND:20231013T010000Z
X-MICROSOFT-CDO-ALLDAYEVENT:FALSE
SUMMARY:Best If Used By
DESCRIPTION:A chorus girl kicks up her heels   an actor jumps around on furniture   no big surprise. In the theatre\, these things happen.\n\nBut usually\, the chorus girl and the table-hopper aren't senior citizens. This fall\, they will be.\n\nA new bittersweet stage comedy\, Best If Used By\, will be performed by two North Shore actors in the range of 80 years old.\n\nThe biting and sometimes surprising humor of the story focuses on issues of aging and ageism   topics of growing concern to increasing numbers of Americans.
X-ALT-DESC;FMTTYPE=text/html:<p style="margin-left:0px\; margin-right:0px">A chorus girl kicks up her heels &mdash\; an actor jumps around on furniture &mdash\; no big surprise. In the theatre\, these things happen.</p>\n\n<p style="margin-left:0px\; margin-right:0px">But usually\, the chorus girl and the table-hopper aren&rsquo\;t senior citizens. This fall\, they will be.</p>\n\n<p style="margin-left:0px\; margin-right:0px">A new bittersweet stage comedy\,&nbsp\;<em><strong>Best If Used By</strong></em>\, will be performed by two North Shore actors in the range of 80 years old.</p>\n\n<p style="margin-left:0px\; margin-right:0px">The biting and sometimes surprising humor of the story focuses on issues of aging and ageism &mdash\; topics of growing concern to increasing numbers of Americans.</p>\n
LOCATION:Firehouse Center for the Arts Market Square Newburyport\, MA 01950
UID:e.1189.123608
SEQUENCE:3
DTSTAMP:20260425T111446Z
URL:https://business.newburyportchamber.org/events/details/best-if-used-by-123608
END:VEVENT

END:VCALENDAR
