BEGIN:VCALENDAR
VERSION:2.0
PRODID:-//ChamberMaster//Event Calendar 2.0//EN
METHOD:PUBLISH
X-PUBLISHED-TTL:P3D
REFRESH-INTERVAL:P3D
CALSCALE:GREGORIAN
BEGIN:VEVENT
DTSTART:20221025T230000Z
DTEND:20221026T030000Z
X-MICROSOFT-CDO-ALLDAYEVENT:FALSE
SUMMARY:Bar25 Industry Night
DESCRIPTION:Industry night at Bar25 dedicated to Restaurant Individuals. Every Tuesday!
X-ALT-DESC;FMTTYPE=text/html:Industry night at Bar25 dedicated to Restaurant Individuals. Every Tuesday!
LOCATION:38 State St. Newburyport MA
UID:e.1189.92627
SEQUENCE:3
DTSTAMP:20260421T042413Z
URL:https://business.newburyportchamber.org/events/details/bar25-industry-night-10-25-2022-92627
END:VEVENT

END:VCALENDAR
