BEGIN:VCALENDAR
VERSION:2.0
PRODID:-//ChamberMaster//Event Calendar 2.0//EN
METHOD:PUBLISH
X-PUBLISHED-TTL:P3D
REFRESH-INTERVAL:P3D
CALSCALE:GREGORIAN
BEGIN:VEVENT
DTSTART:20090408T040000Z
DTEND:20090408T040000Z
X-MICROSOFT-CDO-ALLDAYEVENT:FALSE
SUMMARY:Bacon\, Eggs & Benefits blank 2009?
DESCRIPTION:*  Bacon\, Eggs & Benefits  *\n\nWho says there's no such thing as a Free Breakfast?\n\n \n\nIs there someone you know who is not a member of the Greater Newburyport\n\nChamber of Commerce but should be? Someone you know who has been thinking about joining but just never got around to it?\n\n \n\nJoin us! Bring a non-member guest to breakfast and enjoy your eggs on us!\n\n \n\nWednesday\, April 8\n\n8:00 am   9:30 am\n\nat\n\nDavid's Tavern at Brown Square\n\nIn the Garrison Inn across from Newburyport City Hall\n\n \n\nThere will be networking followed by a brief member benefits presentation.\n\n \n\nAdmission permitted only if you are a member in good standing and bring\n\na non-member guest interested in learning more about the benefits of Chamber membership and possibly joining.\n\n \n\n$600 worth of free benefits to those who join in April.\n\n \n\nAdmission is Free. Reservations are Required.\n\nRSVP to Patty St. John at 978-462-6680 x14 with both names of attendees
X-ALT-DESC;FMTTYPE=text/html:<p align="left" class="MsoNormal" style="MARGIN: 0in 0in 0pt 1in\; TEXT-INDENT: 0.5in\; TEXT-ALIGN: justify">&nbsp\;</p>\n\n<p align="center" class="MsoNormal" style="MARGIN: 0in 0in 0pt\; TEXT-ALIGN: center"><span style="FONT-FAMILY: Arial"><font size="4"><font size="3"><font color="#99cc00"><span style="FONT-WEIGHT: bold\; FONT-SIZE: 11pt\; COLOR: #99cc00\; FONT-STYLE: italic\; FONT-FAMILY: Arial"><font size="2"><font color="#000000"><span style="FONT-SIZE: 16pt\; COLOR: #ec8c00\; FONT-FAMILY: Arial">*<span style="mso-spacerun: yes">&nbsp\; </span>Bacon\, Eggs &amp\; Benefits<span style="mso-spacerun: yes">&nbsp\; </span>*<!--?xml:namespace prefix = o ns = "urn:schemas-microsoft-com:office:office" /--><o:p></o:p></span></font></font></span></font></font></font></span></p>\n\n<p align="center" class="MsoNormal" style="MARGIN: 0in 0in 0pt\; TEXT-ALIGN: center"><span style="FONT-FAMILY: Arial"><font size="4"><font size="3"><font color="#99cc00"><span style="FONT-WEIGHT: bold\; FONT-SIZE: 11pt\; COLOR: #99cc00\; FONT-STYLE: italic\; FONT-FAMILY: Arial"><font size="2"><font color="#000000"><span style="FONT-SIZE: 16pt\; COLOR: #ec8c00\; FONT-FAMILY: Arial">Who says there&rsquo\;s no such thing as a Free Breakfast?<o:p></o:p></span></font></font></span></font></font></font></span></p>\n\n<p align="center" class="MsoNormal" style="MARGIN: 0in 0in 0pt\; TEXT-ALIGN: center"><span style="FONT-FAMILY: Arial"><font size="4"><font size="3"><font color="#99cc00"><span style="FONT-WEIGHT: bold\; FONT-SIZE: 11pt\; COLOR: #99cc00\; FONT-STYLE: italic\; FONT-FAMILY: Arial"><font size="2"><font color="#000000"><span style="FONT-FAMILY: Arial"><o:p><font size="3">&nbsp\;</font></o:p></span></font></font></span></font></font></font></span></p>\n\n<p align="center" class="MsoNormal" style="MARGIN: 0in 0in 0pt\; TEXT-ALIGN: center"><span style="FONT-FAMILY: Arial"><font size="4"><font size="3"><font color="#99cc00"><span style="FONT-WEIGHT: bold\; FONT-SIZE: 11pt\; COLOR: #99cc00\; FONT-STYLE: italic\; FONT-FAMILY: Arial"><font size="2"><font color="#000000"><span style="COLOR: #996600\; FONT-FAMILY: Arial"><font size="3">Is there someone you know who is not a member of the Greater Newburyport<o:p></o:p></font></span></font></font></span></font></font></font></span></p>\n\n<p align="center" class="MsoNormal" style="MARGIN: 0in 0in 0pt\; TEXT-ALIGN: center"><span style="FONT-FAMILY: Arial"><font size="4"><font size="3"><font color="#99cc00"><span style="FONT-WEIGHT: bold\; FONT-SIZE: 11pt\; COLOR: #99cc00\; FONT-STYLE: italic\; FONT-FAMILY: Arial"><font size="2"><font color="#000000"><span style="COLOR: #996600\; FONT-FAMILY: Arial"><font size="3">Chamber of Commerce but should be? Someone you know who has been thinking about joining but just never got around to it?<o:p></o:p></font></span></font></font></span></font></font></font></span></p>\n\n<p align="center" class="MsoNormal" style="MARGIN: 0in 0in 0pt\; TEXT-ALIGN: center"><span style="FONT-FAMILY: Arial"><font size="4"><font size="3"><font color="#99cc00"><span style="FONT-WEIGHT: bold\; FONT-SIZE: 11pt\; COLOR: #99cc00\; FONT-STYLE: italic\; FONT-FAMILY: Arial"><font size="2"><font color="#000000"><span style="COLOR: #996600\; FONT-FAMILY: Arial"><o:p><font size="3">&nbsp\;</font></o:p></span></font></font></span></font></font></font></span></p>\n\n<p align="center" class="MsoNormal" style="MARGIN: 0in 0in 0pt\; TEXT-ALIGN: center"><span style="FONT-FAMILY: Arial"><font size="4"><font size="3"><font color="#99cc00"><span style="FONT-WEIGHT: bold\; FONT-SIZE: 11pt\; COLOR: #99cc00\; FONT-STYLE: italic\; FONT-FAMILY: Arial"><font size="2"><font color="#000000"><span style="COLOR: #996600\; FONT-FAMILY: Arial"><font size="3">Join us! Bring a non-member guest to breakfast and enjoy your eggs on us!<o:p></o:p></font></span></font></font></span></font></font></font></span></p>\n\n<p align="center" class="MsoNormal" style="MARGIN: 0in 0in 0pt\; TEXT-ALIGN: center"><span style="FONT-FAMILY: Arial"><font size="4"><font size="3"><font color="#99cc00"><span style="FONT-WEIGHT: bold\; FONT-SIZE: 11pt\; COLOR: #99cc00\; FONT-STYLE: italic\; FONT-FAMILY: Arial"><font size="2"><font color="#000000"><span style="COLOR: #996600\; FONT-FAMILY: Arial"><o:p><font size="3">&nbsp\;</font></o:p></span></font></font></span></font></font></font></span></p>\n\n<p align="center" class="MsoNormal" style="MARGIN: 0in 0in 0pt\; TEXT-ALIGN: center"><span style="FONT-FAMILY: Arial"><font size="4"><font size="3"><font color="#99cc00"><span style="FONT-WEIGHT: bold\; FONT-SIZE: 11pt\; COLOR: #99cc00\; FONT-STYLE: italic\; FONT-FAMILY: Arial"><font size="2"><font color="#000000"><span style="COLOR: #996600\; FONT-FAMILY: Arial"><font size="3"><font color="#cc7e0b">Wednesday\, April 8<o:p></o:p></font></font></span></font></font></span></font></font></font></span></p>\n\n<p align="center" class="MsoNormal" style="MARGIN: 0in 0in 0pt\; TEXT-ALIGN: center"><span style="FONT-FAMILY: Arial"><font size="4"><font size="3"><font color="#99cc00"><span style="FONT-WEIGHT: bold\; FONT-SIZE: 11pt\; COLOR: #99cc00\; FONT-STYLE: italic\; FONT-FAMILY: Arial"><font size="2"><font color="#000000"><font size="3"><font color="#cc7e0b"><!--?xml:namespace prefix = st1 ns = "urn:schemas-microsoft-com:office:smarttags" /--><st1:time hour="8" minute="0"><span style="COLOR: #996600\; FONT-FAMILY: Arial">8:00 am &ndash\; 9:30 am</span></st1:time><br />\n<span style="COLOR: #996600\; FONT-FAMILY: Arial"><o:p>at</o:p></span></font></font></font></font></span></font></font></font></span></p>\n\n<p align="center" class="MsoNormal" style="MARGIN: 0in 0in 0pt\; TEXT-ALIGN: center"><span style="FONT-FAMILY: Arial"><font size="4"><font size="3"><font color="#99cc00"><span style="FONT-WEIGHT: bold\; FONT-SIZE: 11pt\; COLOR: #99cc00\; FONT-STYLE: italic\; FONT-FAMILY: Arial"><font size="2"><font color="#000000"><span style="COLOR: #996600\; FONT-FAMILY: Arial"><font color="#804000" size="3">David&#39\;s Tavern at Brown Square</font></span></font></font></span></font></font></font></span></p>\n\n<p align="center" class="MsoNormal" style="MARGIN: 0in 0in 0pt\; TEXT-ALIGN: center"><span style="FONT-FAMILY: Arial"><font size="4"><font size="3"><font color="#99cc00"><span style="FONT-WEIGHT: bold\; FONT-SIZE: 11pt\; COLOR: #99cc00\; FONT-STYLE: italic\; FONT-FAMILY: Arial"><font size="2"><font color="#000000"><span style="COLOR: #996600\; FONT-FAMILY: Arial"><font color="#804000" size="3">In the Garrison Inn across from Newburyport City Hall</font></span></font></font></span></font></font></font></span></p>\n\n<p align="center" class="MsoNormal" style="MARGIN: 0in 0in 0pt\; TEXT-ALIGN: center"><span style="FONT-FAMILY: Arial"><font size="4"><font size="3"><font color="#99cc00"><span style="FONT-WEIGHT: bold\; FONT-SIZE: 11pt\; COLOR: #99cc00\; FONT-STYLE: italic\; FONT-FAMILY: Arial"><font size="2"><font color="#000000"><span style="COLOR: #996600"><o:p><font face="Times New Roman" size="3">&nbsp\;</font></o:p></span></font></font></span></font></font></font></span></p>\n\n<p align="center" class="MsoNormal" style="MARGIN: 0in 0in 0pt\; TEXT-ALIGN: center"><span style="FONT-FAMILY: Arial"><font size="4"><font size="3"><font color="#99cc00"><span style="FONT-WEIGHT: bold\; FONT-SIZE: 11pt\; COLOR: #99cc00\; FONT-STYLE: italic\; FONT-FAMILY: Arial"><font size="2"><font color="#000000"><span style="COLOR: #996600\; FONT-FAMILY: Arial"><font size="3">There will be networking&nbsp\;followed by&nbsp\;a brief member benefits presentation.<o:p></o:p></font></span></font></font></span></font></font></font></span></p>\n\n<p align="center" class="MsoNormal" style="MARGIN: 0in 0in 0pt\; TEXT-ALIGN: center"><span style="FONT-FAMILY: Arial"><font size="4"><font size="3"><font color="#99cc00"><span style="FONT-WEIGHT: bold\; FONT-SIZE: 11pt\; COLOR: #99cc00\; FONT-STYLE: italic\; FONT-FAMILY: Arial"><font size="2"><font color="#000000"><span style="COLOR: #996600\; FONT-FAMILY: Arial"><o:p><font size="3">&nbsp\;</font></o:p></span></font></font></span></font></font></font></span></p>\n\n<p align="center" class="MsoNormal" style="MARGIN: 0in 0in 0pt\; TEXT-ALIGN: center"><span style="FONT-FAMILY: Arial"><font size="4"><font size="3"><font color="#99cc00"><span style="FONT-WEIGHT: bold\; FONT-SIZE: 11pt\; COLOR: #99cc00\; FONT-STYLE: italic\; FONT-FAMILY: Arial"><font size="2"><font color="#000000"><span>Admission permitted only if you are a member in good standing <span style="COLOR: #996600">and bring<o:p></o:p></span></span></font></font></span></font></font></font></span></p>\n\n<p align="center" class="MsoNormal" style="MARGIN: 0in 0in 0pt\; TEXT-ALIGN: center"><span style="FONT-FAMILY: Arial"><font size="4"><font size="3"><font color="#99cc00"><span style="FONT-WEIGHT: bold\; FONT-SIZE: 11pt\; COLOR: #99cc00\; FONT-STYLE: italic\; FONT-FAMILY: Arial"><font size="2"><font color="#000000"><span style="FONT-SIZE: 11pt\; COLOR: #996600\; FONT-FAMILY: Arial">a non-member guest interested in learning more about the benefits of Chamber membership and possibly joining.<o:p></o:p></span></font></font></span></font></font></font></span></p>\n\n<p align="center" class="MsoNormal" style="MARGIN: 0in 0in 0pt\; TEXT-ALIGN: center"><span style="FONT-FAMILY: Arial"><font size="4"><font size="3"><font color="#99cc00"><span style="FONT-WEIGHT: bold\; FONT-SIZE: 11pt\; COLOR: #99cc00\; FONT-STYLE: italic\; FONT-FAMILY: Arial"><font size="2"><font color="#000000"><span style="FONT-SIZE: 11pt\; COLOR: #996600\; FONT-FAMILY: Arial"><o:p>&nbsp\;</o:p></span></font></font></span></font></font></font></span></p>\n\n<p align="center" class="MsoNormal" style="MARGIN: 0in 0in 0pt\; TEXT-ALIGN: center"><span style="FONT-FAMILY: Arial"><font size="4"><font size="3"><font color="#99cc00"><span style="FONT-WEIGHT: bold\; FONT-SIZE: 11pt\; COLOR: #99cc00\; FONT-STYLE: italic\; FONT-FAMILY: Arial"><font size="2"><font color="#000000"><span style="FONT-SIZE: 11pt\; COLOR: #996600\; FONT-FAMILY: Arial">$600 worth of free benefits to those who join in April.<o:p></o:p></span></font></font></span></font></font></font></span></p>\n\n<p align="center" class="MsoNormal" style="MARGIN: 0in 0in 0pt\; TEXT-ALIGN: center"><span style="FONT-FAMILY: Arial"><font size="4"><font size="3"><font color="#99cc00"><span style="FONT-WEIGHT: bold\; FONT-SIZE: 11pt\; COLOR: #99cc00\; FONT-STYLE: italic\; FONT-FAMILY: Arial"><font size="2"><font color="#000000"><span style="FONT-FAMILY: Arial"><o:p><font size="3">&nbsp\;</font></o:p></span></font></font></span></font></font></font></span></p>\n\n<p align="center" class="MsoNormal" style="MARGIN: 0in 0in 0pt\; TEXT-ALIGN: center"><span style="FONT-FAMILY: Arial"><font size="4"><font size="3"><font color="#99cc00"><span style="FONT-WEIGHT: bold\; FONT-SIZE: 11pt\; COLOR: #99cc00\; FONT-STYLE: italic\; FONT-FAMILY: Arial"><font size="2"><font color="#000000"><span style="COLOR: #ec8c00\; FONT-FAMILY: Arial"><font size="3">Admission is Free. Reservations are Required.<o:p></o:p></font></span></font></font></span></font></font></font></span></p>\n\n<p align="center" class="MsoNormal" style="MARGIN: 0in 0in 0pt\; TEXT-ALIGN: center"><span style="FONT-FAMILY: Arial"><font size="4"><font size="3"><font color="#99cc00"><span style="FONT-WEIGHT: bold\; FONT-SIZE: 11pt\; COLOR: #99cc00\; FONT-STYLE: italic\; FONT-FAMILY: Arial"><font size="2"><font color="#000000"><span style="COLOR: #ec8c00\; FONT-FAMILY: Arial"><font size="3">RSVP to Patty St. John at 978-462-6680 x14 with both names of attendees<o:p></o:p></font></span></font></font></span></font></font></font></span></p>\n\n<p align="left"><br />\n<br />\n<span style="FONT-FAMILY: Arial"><font size="4"><font size="3"><font color="#99cc00"><span style="FONT-WEIGHT: bold\; FONT-SIZE: 11pt\; COLOR: #99cc00\; FONT-STYLE: italic\; FONT-FAMILY: Arial"><font size="2"><font color="#000000">&nbsp\;</font></font></span></font></font></font></span></p>\n\n<p><span style="FONT-FAMILY: Arial"><font size="4"><font size="3"><font color="#99cc00"><span style="FONT-WEIGHT: bold\; FONT-SIZE: 11pt\; COLOR: #99cc00\; FONT-STYLE: italic\; FONT-FAMILY: Arial">&nbsp\;</span></font></font></font></span></p>\n\n<p><span style="FONT-FAMILY: Arial"><font size="4"><font size="3"><font color="#99cc00"><span style="FONT-WEIGHT: bold\; FONT-SIZE: 11pt\; COLOR: #99cc00\; FONT-STYLE: italic\; FONT-FAMILY: Arial"><font face="Georgia">&nbsp\;</font></span></font></font></font></span></p>\n\n<p align="left">&nbsp\;</p>\n\n<center><span style="FONT-FAMILY: Arial"><font size="4"><font size="3"><font color="#99cc00"><span style="FONT-WEIGHT: bold\; FONT-SIZE: 11pt\; COLOR: #99cc00\; FONT-STYLE: italic\; FONT-FAMILY: Arial">&nbsp\;</span></font></font></font></span></center>\n
LOCATION:David's Tavern at Brown Square
UID:e.1189.1190
SEQUENCE:3
DTSTAMP:20260422T023712Z
URL:https://business.newburyportchamber.org/events/details/bacon-eggs-benefits-blank-2009-1190
END:VEVENT

END:VCALENDAR
