BEGIN:VCALENDAR
VERSION:2.0
PRODID:-//ChamberMaster//Event Calendar 2.0//EN
METHOD:PUBLISH
X-PUBLISHED-TTL:P3D
REFRESH-INTERVAL:P3D
CALSCALE:GREGORIAN
BEGIN:VEVENT
DTSTART:20090922T040000Z
DTEND:20090922T040000Z
X-MICROSOFT-CDO-ALLDAYEVENT:FALSE
SUMMARY:Bacon\, Eggs & Benefits 2009
DESCRIPTION:Is there someone you know who is not a member of the Greater Newburyport Chamber of Commerce but should be? Someone you know who has been thinking about joining but just never got around to it?\n\n\n\nJoin us! Bring one or more non-member guests to breakfast and all of you can enjoy your eggs on us!*  There will be networking followed by a powerpoint member benefits presentation.\n\nDon't have a guest? You can still join us to get a comprehensive review of all the many benefits of membership!  Know what your chamber has to offer and take advantage of it all!\n\n$600 worth of free benefits to those who join now through the end of October!\n\n\n\nA $100 Newburyport Gift Certificate will be awarded to anyone who recruits three or more members!\n\n\n\nTuesday\, September 22\n\n8:00   10:00 AM\n\nDavid's Tavern\, 11 Brown Square\, Newburyport\n\nAdmission is Free - Reservations are Required.\n\nRSVP to Patty St. John at pstjohn@newburyportchamber.org or \n\n 978-462-6680 x14 with both names of attendees.\n\n\n\n*Admission permitted only if you are a member in good standing and bring a non-member guest interested in learning more about the benefits of Chamber membership and possibly joining.
X-ALT-DESC;FMTTYPE=text/html:<center>\n<p align="left"><font color="#000000" face="Arial" size="4">Is there someone you know who is not a member of the Greater Newburyport Chamber of Commerce but should be? Someone you know who has been thinking about joining but just never got around to it?<br />\n<br />\n<b>Join us!</b> Bring&nbsp\;one or more&nbsp\;<u>non-member guests</u> to breakfast and <u>all</u> of you can enjoy your eggs on us!*&nbsp\; There will be networking followed by a powerpoint member benefits presentation.</font></p>\n\n<p align="left"><font size="3"><font face="Arial"><strong><span style="FONT-SIZE: 10pt\; COLOR: #804000\; FONT-FAMILY: Georgia">Don</span></strong><!--?xml:namespace prefix = st1 ns = "urn:schemas-microsoft-com:office:smarttags" /--><st1:personname><strong><span style="FONT-SIZE: 10pt\; COLOR: #804000\; FONT-FAMILY: Georgia">&#39\;</span></strong></st1:personname><strong><span style="FONT-SIZE: 10pt\; COLOR: #804000\; FONT-FAMILY: Georgia">t have a guest?</span></strong><span style="FONT-SIZE: 10pt\; COLOR: black\; FONT-FAMILY: Georgia">&nbsp\;You can still join us to get a comprehensive review of </span><st1:personname><span style="FONT-SIZE: 10pt\; COLOR: black\; FONT-FAMILY: Georgia">all</span></st1:personname><span style="FONT-SIZE: 10pt\; COLOR: black\; FONT-FAMILY: Georgia"> the many benefits of membership!&nbsp\; Know what your chamber has to offer and take advantage of it </span><st1:personname><span style="FONT-SIZE: 10pt\; COLOR: black\; FONT-FAMILY: Georgia">all</span></st1:personname><span style="FONT-SIZE: 10pt\; COLOR: black\; FONT-FAMILY: Georgia">!</span></font><span style="FONT-SIZE: 10pt\; FONT-FAMILY: Georgia"><!--?xml:namespace prefix = o ns = "urn:schemas-microsoft-com:office:office" /--><o:p></o:p></span></font></p>\n\n<p align="left"><font color="#000000"><strong><font face="Arial" size="4">$600 worth of free benefits to those who join now through the&nbsp\;end of October!</font></strong><br />\n<br />\n<font face="Arial"><font size="4"><font color="#d26900"><strong>A $100 Newburyport Gift Certificate will be awarded to anyone who recruits three or more members!</strong></font></font></font></font><br />\n<br />\n<font face="Arial"><font size="4"><b><font color="#d26900">Tuesday\, September 22<br />\n8:00 &ndash\;&nbsp\;10:00 AM</font></b><br />\n<b><font color="#000000">David&#39\;s Tavern\, 11 Brown Square\, Newburyport</font></b></font></font></p>\n\n<p align="left"><font face="Arial"><font size="4"><font color="#d26900"><b>Admission is Free - <u>Reservations are Required.</u></b></font><br />\n<font color="#000000">RSVP to Patty St. John at </font></font></font><a href="mailto:pstjohn@newburyportchamber.org"><font color="#000000" face="Arial" size="4">pstjohn@newburyportchamber.org</font></a><font color="#000000" face="Arial" size="4"> or&nbsp\;<br />\n&nbsp\;978-462-6680 x14 with both names of attendees.</font><br />\n<br />\n<font color="#000000" face="Arial" size="4"><i>*Admission permitted only if you are a member in good standing and bring a <u>non-member guest</u> interested in learning more about the benefits of Chamber membership and possibly joining.</i></font></p>\n</center>\n
LOCATION:David's Tavern at Brown Square
UID:e.1189.1295
SEQUENCE:3
DTSTAMP:20260421T194118Z
URL:https://business.newburyportchamber.org/events/details/bacon-eggs-benefits-2009-09-22-2009-1295
END:VEVENT

END:VCALENDAR
