BEGIN:VCALENDAR
VERSION:2.0
PRODID:-//ChamberMaster//Event Calendar 2.0//EN
METHOD:PUBLISH
X-PUBLISHED-TTL:P3D
REFRESH-INTERVAL:P3D
CALSCALE:GREGORIAN
BEGIN:VEVENT
DTSTART:20100223T050000Z
DTEND:20100223T050000Z
X-MICROSOFT-CDO-ALLDAYEVENT:FALSE
SUMMARY:Bacon\, Eggs & Benefits 2010
DESCRIPTION:Bacon\, Eggs & Benefits!\n\nTuesday\, February 23\n\n8:00 to 10:00 AM\n\nDavid's Tavern\n\n11 Brown Square\, Newburyport! \n\nIs there someone you know who would benefit from being a member of the Greater Newburyport Chamberof Commerce? Someone you know who has been thinking about joining but just hasn't got around to it?\n\nBring one or more non-member guests to breakfast and all of you can enjoy your eggs on us!* There will be networking followed by a PowerPoint member benefits presentation. A $25 Newburyport Gift Certificate will be awarded to you for every member you recruit!\n\nAdmission is Free - Reservations are Required.\n\nRSVP to Patty St. John at pstjohn@newburyportchamber.org\n\nor 978-462-6680 x14 with all names of attendees.\n\n\n\n*Admission permitted only if you are a member in good standing and bring a non-member guest interested in learning more about the benefits of Chamber membership and possibly joining.\n\n\n\n	\n		\n			\n			$635 worth of Free Benefits to those who join now through 2/28/10!!
X-ALT-DESC;FMTTYPE=text/html:<center>\n<p align="left"><font face="Calibri" size="3"><span style="FONT-WEIGHT: bold\; FONT-SIZE: 12pt\; FONT-FAMILY: Calibri"><font face="Calibri" size="3"><span style="FONT-WEIGHT: bold\; FONT-SIZE: 12pt\; FONT-FAMILY: Calibri"><font color="#ff8000" size="4">Bacon\, Eggs &amp\; Benefits!</font></span></font></span></font></p>\n\n<p align="left"><font face="Calibri" size="3"><span style="FONT-WEIGHT: bold\; FONT-SIZE: 12pt\; FONT-FAMILY: Calibri"><font face="Calibri" size="3"><span style="FONT-WEIGHT: bold\; FONT-SIZE: 12pt\; FONT-FAMILY: Calibri"><font size="4">Tuesday\, February 23</font><br />\n<font face="Calibri"><span style="FONT-FAMILY: Calibri">8:00 to 10:00 AM</span></font></span></font></span></font></p>\n\n<p align="left"><font face="Calibri" size="3"><span style="FONT-WEIGHT: bold\; FONT-SIZE: 12pt\; FONT-FAMILY: Calibri"><font face="Calibri" size="3"><span style="FONT-WEIGHT: bold\; FONT-SIZE: 12pt\; FONT-FAMILY: Calibri"><font face="Calibri"><span style="FONT-FAMILY: Calibri"><span style="FONT-WEIGHT: bold\; FONT-SIZE: 12pt\; FONT-FAMILY: Calibri"><font face="Calibri"><span style="FONT-FAMILY: Calibri"><a href="http://www.davidstavern.com" target="_blank"><font color="black"><span style="COLOR: black">David&#39\;s Tavern</span></font></a><br />\n11 Brown Square\, Newburyport</span></font>! </span></span></font></span></font></span></font></p>\n\n<p align="left"><font face="Calibri" size="3"><span style="FONT-WEIGHT: bold\; FONT-SIZE: 12pt\; FONT-FAMILY: Calibri"><font face="Calibri" size="3"><span style="FONT-WEIGHT: bold\; FONT-SIZE: 12pt\; FONT-FAMILY: Calibri">Is there someone you know</span></font><font face="Calibri"><span style="FONT-FAMILY: Calibri"> who would benefit from being a member of the Greater Newburyport Chamberof Commerce? Someone you know who has been thinking about joining but just hasn&#39\;t got around to it?</span></font></span></font></p>\n\n<p align="left"><font face="Calibri" size="3"><span style="FONT-WEIGHT: bold\; FONT-SIZE: 12pt\; FONT-FAMILY: Calibri">Bring&nbsp\;one or more&nbsp\;non-member guests to breakfast and all of you can enjoy your eggs on us!*</span></font><font face="Calibri"><span style="FONT-FAMILY: Calibri"> <font size="4">There will be networking followed by a PowerPoint member benefits presentation. A $25 Newburyport Gift Certificate will be awarded to you for every member you recruit!</font></span></font></p>\n\n<p align="left"><font face="Calibri" size="3"><span style="FONT-WEIGHT: bold\; FONT-SIZE: 12pt\; FONT-FAMILY: Calibri">Admission is Free - Reservations are Required.</span></font><br />\n<font face="Calibri"><span style="FONT-FAMILY: Calibri"><font size="4"><font color="#ff9933"><span style="FONT-WEIGHT: bold\; COLOR: #ff9933">RSVP to Patty St. John</span></font> at </font><font size="4">pstjohn@newburyportchamber.org<br />\nor 978-462-6680 x14 with all names of attendees.</font></span></font><br />\n<br />\n<font face="Calibri" size="2"><span style="FONT-SIZE: 10pt\; FONT-FAMILY: Calibri">*<strong>Admission permitted only if you are a member in good standing and bring a non-member guest interested in learning more about the benefits of Chamber membership and possibly joining.</strong></span></font></p>\n\n<div align="left">\n<table bgcolor="#ff9933" border="0" cellpadding="0" cellspacing="0" class="MsoNormalTable" style="BACKGROUND: #ff9933\; WIDTH: 75%" width="75%">\n	<tbody>\n		<tr>\n			<td style="PADDING-RIGHT: 7.5pt\; PADDING-LEFT: 7.5pt\; PADDING-BOTTOM: 7.5pt\; WIDTH: 100%\; PADDING-TOP: 7.5pt" width="100%">\n			<p class="MsoNormal"><b><font face="Calibri" size="3"><span style="FONT-WEIGHT: bold\; FONT-SIZE: 12pt\; FONT-FAMILY: Calibri"><a datafld="0:0" href="http://www.newburyportchamber.org/application.shtml" style="COLOR: blue\; TEXT-DECORATION: underline" target="_NewWindow" title="">$635 worth of Free Benefits to those who join now through 2/28/10!!</a></span></font></b></p>\n			</td>\n		</tr>\n	</tbody>\n</table>\n</div>\n\n<p align="left">&nbsp\;</p>\n\n<p align="left">&nbsp\;</p>\n</center>\n
LOCATION:David's Tavern on Brown Square
UID:e.1189.1513
SEQUENCE:3
DTSTAMP:20260421T100059Z
URL:https://business.newburyportchamber.org/events/details/bacon-eggs-benefits-02-23-2010-1513
END:VEVENT

END:VCALENDAR
