BEGIN:VCALENDAR
VERSION:2.0
PRODID:-//ChamberMaster//Event Calendar 2.0//EN
METHOD:PUBLISH
X-PUBLISHED-TTL:P3D
REFRESH-INTERVAL:P3D
CALSCALE:GREGORIAN
BEGIN:VEVENT
DTSTART;VALUE=DATE:20111015
DTEND;VALUE=DATE:20111016
TRANSP:TRANSPARENT
X-MICROSOFT-CDO-ALLDAYEVENT:TRUE
SUMMARY:ArtWalk\, Artist Demo & Raffle to win an $800 Giclee at the Walsingham Gallery
DESCRIPTION:The Walsingham Gallery's final Artist in Session Series event of the\n\nseason will feature a painting demonstration by artist Jim Karlovich\,\n\nSat.\, Oct 15\, 1-5 p.m.\, and raffle to win a framed\, limited edition\n\nGiclee signed by the artist. "Purple Irises\," valued at $800\, will be\n\nraffled off to a winner drawn at random from the names of those who\n\nsign the gallery's guestbook during the demonstration. This event is\n\npart of ArtWalk.\n\nRefreshments will be served.
X-ALT-DESC;FMTTYPE=text/html:The Walsingham Gallery&rsquo\;s final Artist in Session Series event of the<br />\nseason will feature a painting demonstration by artist Jim Karlovich\,<br />\nSat.\, Oct 15\, 1-5 p.m.\, and raffle to win a framed\, limited edition<br />\nGiclee signed by the artist. &ldquo\;Purple Irises\,&rdquo\; valued at $800\, will be<br />\nraffled off to a winner drawn at random from the names of those who<br />\nsign the gallery&rsquo\;s guestbook during the demonstration. This event is<br />\npart of ArtWalk.<br />\nRefreshments will be served. 
LOCATION:The Walsingham Gallery
UID:e.1189.2288
SEQUENCE:3
DTSTAMP:20260419T192222Z
URL:https://business.newburyportchamber.org/events/details/artwalk-artist-demo-raffle-to-win-an-800-giclee-at-the-walsingham-gallery-10-15-2011-2288
END:VEVENT

END:VCALENDAR
