BEGIN:VCALENDAR
VERSION:2.0
PRODID:-//ChamberMaster//Event Calendar 2.0//EN
METHOD:PUBLISH
X-PUBLISHED-TTL:P3D
REFRESH-INTERVAL:P3D
CALSCALE:GREGORIAN
BEGIN:VEVENT
DTSTART:20111007T223000Z
DTEND:20111008T000000Z
X-MICROSOFT-CDO-ALLDAYEVENT:FALSE
SUMMARY:Artist Reception "From High School to College"
DESCRIPTION:Featuring artworks by Matthew Klos\,Katherine Vetne and NHS students in the AP and Honors Portfolio program
X-ALT-DESC;FMTTYPE=text/html:Featuring artworks by Matthew Klos\,Katherine Vetne and NHS students in the AP and Honors Portfolio program 
LOCATION:Gallery 118\, Newburyport High School 241 High St Newburyport\, MA
UID:e.1189.2291
SEQUENCE:3
DTSTAMP:20260419T211510Z
URL:https://business.newburyportchamber.org/events/details/artist-reception-from-high-school-to-college-10-07-2011-2291
END:VEVENT

END:VCALENDAR
