BEGIN:VCALENDAR
VERSION:2.0
PRODID:-//ChamberMaster//Event Calendar 2.0//EN
METHOD:PUBLISH
X-PUBLISHED-TTL:P3D
REFRESH-INTERVAL:P3D
CALSCALE:GREGORIAN
BEGIN:VEVENT
DTSTART:20110924T170000Z
DTEND:20110924T210000Z
X-MICROSOFT-CDO-ALLDAYEVENT:FALSE
SUMMARY:Artist in Session Series: Painting Demonstration by Robert Brun
DESCRIPTION:The Walsingham Gallery's Artist in Session Series presents a painting demonstration by artist Robert Brun\, Sat.\, September 24\, from 1-5 p.m. Brun is a native of Baltimore\, Maryland\, and has lived in Newburyport since 1985. A graduate of the Rhode Island School of Design with a degree in illustration\, he is the founder of the Independent Pencil Company and has been a practicing professional artist for over twenty years. Brun uses watercolor and oil to capture the uniqueness of the New England landscape.  \n\n\n\nRefreshments served at event
X-ALT-DESC;FMTTYPE=text/html:The Walsingham Gallery&rsquo\;s Artist in Session Series presents a painting demonstration by artist Robert Brun\, Sat.\, September 24\, from 1-5 p.m. Brun is a native of Baltimore\, Maryland\, and has lived in Newburyport since 1985. A graduate of the Rhode Island School of Design with a degree in illustration\, he is the founder of the Independent Pencil Company and has been a practicing professional artist for over twenty years. Brun uses watercolor and oil to capture the uniqueness of the New England landscape. &nbsp\;<br />\n<br />\nRefreshments served at event
LOCATION:Walsingham Gallery 47 Merrimac St.\, Newburyport
UID:e.1189.2207
SEQUENCE:3
DTSTAMP:20260419T211828Z
URL:https://business.newburyportchamber.org/events/details/artist-in-session-series-painting-demonstration-by-robert-brun-09-24-2011-2207
END:VEVENT

END:VCALENDAR
