BEGIN:VCALENDAR
VERSION:2.0
PRODID:-//ChamberMaster//Event Calendar 2.0//EN
METHOD:PUBLISH
X-PUBLISHED-TTL:P3D
REFRESH-INTERVAL:P3D
CALSCALE:GREGORIAN
BEGIN:VEVENT
DTSTART:20110910T170000Z
DTEND:20110910T210000Z
X-MICROSOFT-CDO-ALLDAYEVENT:FALSE
SUMMARY:Artist in Session Series: Painting Demonstration by Maris Platais
DESCRIPTION:The Walsingham Gallery's Artist in Session Series presents a painting demonstration by artist Maris Platais\, Saturday\, September 10th\, 1-5pm.\n\n\n\n\n\nMaris Platais was born in Latvia and has lived in New England since 1949. A graduate of Tufts University and The Museum School of Fine Arts in Boston\, where he later became a member of the faculty\, Platais is a nationally known marine and landscape artist. He currently lives in Carlisle\, Massachusetts.\n\n\n\n Scheduled May-October\, the Artist in Session series provides the opportunity to catch a rare glimpse into the creative process as the artist demonstrates their personal techniques in our intimate gallery setting.\n\n\n\n Wine and cheese to be served at event.
X-ALT-DESC;FMTTYPE=text/html:The Walsingham Gallery&rsquo\;s Artist in Session Series presents a painting demonstration by artist Maris Platais\, Saturday\, September 10th\, 1-5pm.<br />\n<br />\n<br />\nMaris Platais was born in Latvia and has lived in New England since 1949. A graduate of Tufts University and The Museum School of Fine Arts in Boston\, where he later became a member of the faculty\, Platais is a nationally known marine and landscape artist. He currently lives in Carlisle\, Massachusetts.<br />\n<br />\n&nbsp\;Scheduled May-October\, the Artist in Session series provides the opportunity to catch a rare glimpse into the creative process as the artist demonstrates their personal techniques in our intimate gallery setting.<br />\n<br />\n&nbsp\;Wine and cheese to be served at event.<br />\n<br />\n
LOCATION:The Walsingham Gallery\, 47 Merrimac St.\, Newburyport MA 01950
UID:e.1189.2194
SEQUENCE:3
DTSTAMP:20260419T230152Z
URL:https://business.newburyportchamber.org/events/details/artist-in-session-series-painting-demonstration-by-maris-platais-09-10-2011-2194
END:VEVENT

END:VCALENDAR
