BEGIN:VCALENDAR
VERSION:2.0
PRODID:-//ChamberMaster//Event Calendar 2.0//EN
METHOD:PUBLISH
X-PUBLISHED-TTL:P3D
REFRESH-INTERVAL:P3D
CALSCALE:GREGORIAN
BEGIN:VEVENT
DTSTART:20111001T170000Z
DTEND:20111001T210000Z
X-MICROSOFT-CDO-ALLDAYEVENT:FALSE
SUMMARY:Artist in Session Series: Painting Demonstration by Gary Korlin
DESCRIPTION:The Walsingham Gallery's Artist in Session Series presents a painting demonstration by artist Gary Korlin\, Sat.\, October 1\, from 1-5 p.m. Korlin is a native of St. Paul\, Minnesota\, and received 19th Century French Academic training at Atelier Lack in Minneapolis. He later moved to Italy\, living in the mountains overlooking Florence\, deep in the heart of Tuscany.\n\n\n\nReturning to a larger studio in St. Paul\, Korlin continues with life-sized figure work\, landscapes\, still-lifes\, and an ever-increasing demand for portraiture. Using a naturalistic approach\, he seeks to create an impression of life\, from a delicately modeled rose to the energy of a wind-blown landscape\, relying on his ability to create the illusion of the third dimension.
X-ALT-DESC;FMTTYPE=text/html:The Walsingham Gallery&rsquo\;s Artist in Session Series presents a painting demonstration by artist Gary Korlin\, Sat.\, October 1\, from 1-5 p.m. Korlin is a native of St. Paul\, Minnesota\, and received 19th Century French Academic training at Atelier Lack in Minneapolis. He later moved to Italy\, living in the mountains overlooking Florence\, deep in the heart of Tuscany.<br />\n<br />\nReturning to a larger studio in St. Paul\, Korlin continues with life-sized figure work\, landscapes\, still-lifes\, and an ever-increasing demand for portraiture. Using a naturalistic approach\, he seeks to create an impression of life\, from a delicately modeled rose to the energy of a wind-blown landscape\, relying on his ability to create the illusion of the third dimension.<br />\n&nbsp\;
LOCATION:The Walsingham Gallery 47 Merrimac St.\, Newburyport
UID:e.1189.2208
SEQUENCE:3
DTSTAMP:20260419T192140Z
URL:https://business.newburyportchamber.org/events/details/artist-in-session-series-painting-demonstration-by-gary-korlin-10-01-2011-2208
END:VEVENT

END:VCALENDAR
