BEGIN:VCALENDAR
VERSION:2.0
PRODID:-//ChamberMaster//Event Calendar 2.0//EN
METHOD:PUBLISH
X-PUBLISHED-TTL:P3D
REFRESH-INTERVAL:P3D
CALSCALE:GREGORIAN
BEGIN:VEVENT
DTSTART:20110827T170000Z
DTEND:20110827T210000Z
X-MICROSOFT-CDO-ALLDAYEVENT:FALSE
SUMMARY:Artist in Session Series
DESCRIPTION:The Walsingham Gallery Artist in Session Series presents a sculpture demonstration by Artist Greg Spitzer.  The Artist's passion for sculpture was born out of his frustration with the limitations of the two dimensional surface. Spitzer enjoys the challenges of different materials and sculpts in Bronze\, Aluminum\, Marble\, Limestone and more. For our demonstration\, he will be carving Turkish red and Italian Statuario marble\, and other varieties of stone.
X-ALT-DESC;FMTTYPE=text/html:The Walsingham Gallery Artist in Session Series presents a sculpture demonstration by Artist Greg Spitzer.&nbsp\; The Artist&#39\;s passion for sculpture was born out of his frustration with the limitations of the two dimensional surface. Spitzer enjoys the challenges of different materials and sculpts in Bronze\, Aluminum\, Marble\, Limestone and more. For our demonstration\, he will be carving Turkish red and Italian Statuario marble\, and other varieties of stone.<br />\n<br />\n
LOCATION:The Walsingham Gallery 47 Merrimac Street Newburyport MA 01950
UID:e.1189.2133
SEQUENCE:3
DTSTAMP:20260420T002100Z
URL:https://business.newburyportchamber.org/events/details/artist-in-session-series-08-27-2011-2133
END:VEVENT

END:VCALENDAR
