BEGIN:VCALENDAR
VERSION:2.0
PRODID:-//ChamberMaster//Event Calendar 2.0//EN
METHOD:PUBLISH
X-PUBLISHED-TTL:P3D
REFRESH-INTERVAL:P3D
CALSCALE:GREGORIAN
BEGIN:VEVENT
DTSTART:20090402T040000Z
DTEND:20090402T040000Z
X-MICROSOFT-CDO-ALLDAYEVENT:FALSE
SUMMARY:April 2009 Breakfast Forum Series
DESCRIPTION:Guest Speaker\nMaura O. Banta\, Chair\, Massachusetts Board of Elementary & Secondary Education and IBM's East Coast Regional Manager for Corporate Citizenship and Corporate AffairsTopic\nEducation: Stimulating Our Future Workforce Sponsored by Comcast \nIn support of Newburyport Education Business Coalition & Newburyport Education FoundationSeason Ticket Holders\, click here to RSVP!Reservations Required \nPlease note: reservations not cancelled 24 hours prior to event will be charged.
X-ALT-DESC;FMTTYPE=text/html:<DIV><SPAN class=810344419-07032008><FONT face=Calibri size=2><STRONG></STRONG></FONT></SPAN></DIV><DIV><SPAN class=810344419-07032008><FONT face=Calibri color=#004080 size=4><P><FONT face=Arial><FONT size=2><FONT color=#000000><SPAN class=810344419-07032008><SPAN class=810344419-07032008><SPAN class=810344419-07032008><STRONG>Guest Speaker<BR></STRONG>Maura O. Banta</SPAN></SPAN></SPAN><SPAN class=810344419-07032008>\, Chair\, Massachusetts Board of Elementary &amp\; Secondary Education and IBM's East Coast Regional Manager for Corporate Citizenship and Corporate Affairs</SPAN></FONT></FONT></FONT></P><P><SPAN class=810344419-07032008><SPAN class=810344419-07032008><FONT face=Arial><FONT size=2><FONT color=#000000><STRONG>Topic<BR></STRONG>Education: Stimulating Our Future Workforce </FONT></FONT></FONT></SPAN></SPAN></P><P><SPAN class=810344419-07032008><SPAN class=810344419-07032008><SPAN class=810344419-07032008><FONT face=Arial><FONT size=2><FONT color=#000000><STRONG>Sponsored </STRONG>by Comcast</FONT></FONT></FONT><SPAN class=810344419-07032008><FONT face=Arial><FONT size=2><FONT color=#000000><STRONG> <BR></STRONG><EM>In support of Newburyport Education Business Coalition &amp\; Newburyport Education Foundation</EM></FONT></FONT></FONT></SPAN></SPAN></SPAN></SPAN></P></FONT></SPAN><SPAN class=810344419-07032008><STRONG><SPAN class=810344419-07032008><STRONG><P><SPAN class=810344419-07032008><STRONG><FONT face=Arial><FONT color=#000000 size=2>Season Ticket Holders\, </FONT></FONT><A href="mailto:pmarrese@newburyportchamber.org"><FONT face=Arial color=#000000 size=2>click here</FONT></A><FONT face=Arial color=#000000 size=2> to RSVP!</FONT></STRONG></SPAN></P></STRONG></SPAN><P><SPAN class=810344419-07032008><FONT face=Arial><FONT size=2><FONT color=#000000><STRONG>Reservations&nbsp\;Required <BR></STRONG>Please note: reservations not cancelled 24 hours prior to event will be charged.</FONT></FONT></FONT></SPAN></STRONG></SPAN></P></DIV>
LOCATION:The Phoenix Room
UID:e.1189.1186
SEQUENCE:3
DTSTAMP:20260422T041435Z
URL:https://business.newburyportchamber.org/events/details/april-2009-breakfast-forum-series-04-02-2009-1186
END:VEVENT

END:VCALENDAR
