BEGIN:VCALENDAR
VERSION:2.0
PRODID:-//ChamberMaster//Event Calendar 2.0//EN
METHOD:PUBLISH
X-PUBLISHED-TTL:P3D
REFRESH-INTERVAL:P3D
CALSCALE:GREGORIAN
BEGIN:VEVENT
DTSTART:20120218T230000Z
DTEND:20120219T040000Z
X-MICROSOFT-CDO-ALLDAYEVENT:FALSE
SUMMARY:Apokreatiko Dinner and Dance--The Masked Ball!
DESCRIPTION:Enjoy an evening of great food\, great music great dancing\, and great company.\n\n	\n\n	The theme of the night is Un Ballo in Maschera--The Masked Ball. Come masked or unmasked and enjoy a dinner of hot and cold mezedakia\, a buffet of Italian meat dishes\, and a variety of wonderful desserts.\n\n	\n\n	Greek and American music and dancing all night to the tunes of DJ Meleti.\n\n	\n\n	You can reserve tickets by calling 978-465-5757.\n\n	\n\n	There are a limited number of tickets\, so reserve early!
X-ALT-DESC;FMTTYPE=text/html:<p style="text-align: center\;">\n	<span style="font-size: 14px\;"><span style="color: rgb(51\, 51\, 51)\;"><span style="font-family: tahoma\,sans-serif\;">Enjoy an evening of great food\, great music great dancing\, and great company.<br />\n	<br />\n	The theme of the night is Un Ballo in Maschera--The Masked Ball. Come masked or unmasked and enjoy a dinner of hot and cold mezedakia\, a buffet of Italian meat dishes\, and a variety of wonderful&nbsp\;desserts.<br />\n	<br />\n	Greek and American music and dancing all night to the tunes of DJ Meleti.</span></span></span><br />\n	<br />\n	<span style="font-size:14px\;"><span style="color: rgb(51\, 51\, 51)\;"><span style="font-family: tahoma\,sans-serif\;">You can reserve tickets by calling 978-465-5757.<br />\n	<br />\n	There are a limited number of tickets\, so reserve early!</span></span></span></p>\n
LOCATION:Nicholson Hall - Annunciation Greek Orthodox Church 7 Harris Street\, Newburyport\, MA
UID:e.1189.2917
SEQUENCE:3
DTSTAMP:20260419T125038Z
URL:https://business.newburyportchamber.org/events/details/apokreatiko-dinner-and-dance-the-masked-ball-02-18-2012-2917
END:VEVENT

END:VCALENDAR
