BEGIN:VCALENDAR
VERSION:2.0
PRODID:-//ChamberMaster//Event Calendar 2.0//EN
METHOD:PUBLISH
X-PUBLISHED-TTL:P3D
REFRESH-INTERVAL:P3D
CALSCALE:GREGORIAN
BEGIN:VEVENT
DTSTART:20111214T223000Z
DTEND:20111215T003000Z
X-MICROSOFT-CDO-ALLDAYEVENT:FALSE
SUMMARY:Annual Holiday Mixer at The Phoenix Room
DESCRIPTION:** Annual Member Holiday Mixer  **\n\n	\n\n	Usher in the holiday season at this highly anticipated festive annual mixer at the Phoenix Room! Enjoy a winter evening mingling by the fireplaces overlooking the heart of bustling downtown Newburyport.  Catch the holiday spirit and enjoy pleasant conversation with chamber friends\, new and old. Feel free to bring a guest.\n\n	\n		Delicious hors d'oeuvres  *  Raffles  *  Cash Bar\n	\n		5:30 - 7:30pm\n	\n		 \n	\n		Admission:\n	\n		$10 Members & Guests\n	\n		$20 Non Members\n\n		Please pay at the door as you cannot make payment online yet.
X-ALT-DESC;FMTTYPE=text/html:<p>\n	<strong><span style="color: #ff0000"><span style="font-family: calibri"><span style="font-family: calibri\; font-size: 14pt"><font face="Arial"><font size="4"><span style="font-family: calibri\; font-size: 14pt\; mso-bidi-font-family: arial">**</span></font></font></span></span></span><span style="color: #008000"><span style="font-family: calibri"><span style="font-family: calibri\; font-size: 14pt"><font face="Arial"><font size="4"><span style="font-family: calibri\; font-size: 14pt\; mso-bidi-font-family: arial"> Annual Member Holiday Mixer&nbsp\; </span></font></font></span></span></span><span style="color: #ff0000"><span style="font-family: calibri"><span style="font-family: calibri\; font-size: 14pt"><font face="Arial"><font size="4"><span style="font-family: calibri\; font-size: 14pt\; mso-bidi-font-family: arial">**</span></font></font></span></span></span></strong><br />\n	<br />\n	<span style="color: #ff0000"><span style="font-family: calibri"><span style="font-family: calibri\; font-size: 14pt"><font face="Arial"><font size="4"><span style="font-family: calibri\; font-size: 14pt\; mso-bidi-font-family: arial">Usher in the holiday season at this highly anticipated festive&nbsp\;annual&nbsp\;mixer at the Phoenix Room!&nbsp\;Enjoy a winter evening mingling by the fireplaces&nbsp\;overlooking the heart of bustling downtown </span></font></font></span></span></span><span style="font-family: calibri"><span style="font-family: calibri\; font-size: 14pt"><font face="Arial"><font size="4"><st1:city><st1:place><span style="color: #ff0000"><span style="font-family: calibri\; font-size: 14pt\; mso-bidi-font-family: arial">Newburyport</span></span></st1:place></st1:city></font></font></span></span><span style="font-family: calibri"><span style="font-family: calibri\; font-size: 14pt"><font face="Arial"><font size="4"><span style="color: #ff0000"><span style="font-family: calibri\; font-size: 14pt\; mso-bidi-font-family: arial">.<span style="mso-spacerun: yes">&nbsp\; </span>Catch the holiday spirit and enjoy pleasant conversation with chamber friends\, new and old. Feel free to bring a guest.</span></span></font></font></span></span></p>\n<div>\n	<p class="MsoNormal" style="margin: 0in 0in 0pt">\n		<span style="font-family: calibri"><span style="font-family: calibri\; font-size: 14pt"><font color="#0080c0"><font color="#ff0000"><font face="Arial"><font size="4"><font color="#008000"><span style="font-family: calibri\; font-size: 14pt"><font color="#000000">Delicious hors d&#39\;oeuvres<span style="mso-spacerun: yes">&nbsp\; </span>*<span style="mso-spacerun: yes">&nbsp\; </span>Raffles<span style="mso-spacerun: yes">&nbsp\; </span>*<span style="mso-spacerun: yes">&nbsp\; </span>Cash Bar</font></span></font></font></font></font></font></span></span></p>\n	<p class="MsoNormal" style="margin: 0in 0in 0pt">\n		<span style="font-family: calibri"><span style="font-family: calibri\; font-size: 14pt"><font color="#0080c0"><font color="#ff0000"><font face="Arial"><font size="4"><font color="#008000"><font color="#000000"><st1:time hour="17" minute="30"><span style="font-family: calibri\; font-size: 14pt">5:30&nbsp\;- 7:30pm</span></st1:time></font></font></font></font></font></font></span></span></p>\n	<p class="MsoNormal" style="margin: 0in 0in 0pt">\n		<span style="font-family: calibri"><span style="font-family: calibri\; font-size: 14pt"><font color="#0080c0"><font color="#ff0000"><font face="Arial"><font size="4"><font color="#008000"><span style="font-family: calibri\; font-size: 14pt"><font color="#000000">&nbsp\;</font></span></font></font></font></font></font></span></span></p>\n	<p class="MsoNormal" style="margin: 0in 0in 0pt">\n		<span style="font-family: calibri"><span style="font-family: calibri\; font-size: 14pt"><font color="#0080c0"><font color="#ff0000"><font face="Arial"><font size="4"><font color="#008000"><span style="font-family: calibri\; font-size: 14pt"><font color="#000000"><strong><font color="#008000">Admission</font>:</strong></font></span></font></font></font></font></font></span></span></p>\n	<p class="MsoNormal" style="margin: 0in 0in 0pt">\n		<span style="font-family: calibri"><span style="font-family: calibri\; font-size: 14pt"><font color="#0080c0"><font color="#ff0000"><font face="Arial"><font size="4"><font color="#008000"><span style="font-family: calibri\; font-size: 14pt"><font color="#000000">$10 Members &amp\; Guests</font></span></font></font></font></font></font></span></span></p>\n	<p class="MsoNormal" style="margin: 0in 0in 0pt">\n		<span style="font-family: calibri"><span style="font-family: calibri\; font-size: 14pt"><font color="#0080c0"><font color="#ff0000"><font face="Arial"><font size="4"><font color="#008000"><span style="font-family: calibri\; font-size: 14pt"><font color="#000000">$20 Non Members<br />\n		Please pay at the door as you cannot make payment online yet.</font></span></font></font></font></font></font></span></span><br />\n		&nbsp\;</p>\n</div>\n
LOCATION:The Phoenix Room Enter from back staircase on Inn Street
UID:e.1189.1652
SEQUENCE:3
DTSTAMP:20260419T173214Z
URL:https://business.newburyportchamber.org/events/details/annual-holiday-mixer-at-the-phoenix-room-12-14-2011-1652
END:VEVENT

END:VCALENDAR
