BEGIN:VCALENDAR
VERSION:2.0
PRODID:-//ChamberMaster//Event Calendar 2.0//EN
METHOD:PUBLISH
X-PUBLISHED-TTL:P3D
REFRESH-INTERVAL:P3D
CALSCALE:GREGORIAN
BEGIN:VEVENT
DTSTART:20101208T050000Z
DTEND:20101208T050000Z
X-MICROSOFT-CDO-ALLDAYEVENT:FALSE
SUMMARY:Annual Holiday Members' Mixer
DESCRIPTION:Phoenix Room Enjoy a festive winter evening mingling by the fireplaces at the Phoenix Room overlooking the heart of bustling downtown Newburyport.  Catch the holiday spirit and enjoy pleasant conversation with chamber friends and colleagues. Delicious hors d’oeuvres  *  Raffles  *  Cash Bar5:30 – 7:30pm Admission:$10 Members$20 Non Members and guests* Payment can be made at door\, not online.
X-ALT-DESC;FMTTYPE=text/html:<DIV><FONT color=#ff0000><FONT face=Arial><FONT size=4><FONT color=#008000><P style="MARGIN: 0in 0in 0pt" class=MsoNormal><B style="mso-bidi-font-weight: normal"><SPAN style="FONT-FAMILY: Calibri\; COLOR: red\; FONT-SIZE: 14pt">Phoenix Room<?xml:namespace prefix = o ns = "urn:schemas-microsoft-com:office:office" /><o:p></o:p></SPAN></B></P><P style="MARGIN: 0in 0in 0pt" class=MsoNormal><SPAN style="FONT-FAMILY: Calibri\; FONT-SIZE: 14pt"><o:p><FONT color=#000000>&nbsp\;</FONT></o:p></SPAN></P><P style="MARGIN: 0in 0in 0pt" class=MsoNormal><FONT color=#000000><SPAN style="FONT-FAMILY: Calibri\; FONT-SIZE: 14pt\; mso-bidi-font-family: Arial">Enjoy a festive winter evening mingling by the fireplaces at the Phoenix Room overlooking the heart of bustling downtown </SPAN><?xml:namespace prefix = st1 ns = "urn:schemas-microsoft-com:office:smarttags" /><st1:City><st1:place><SPAN style="FONT-FAMILY: Calibri\; FONT-SIZE: 14pt\; mso-bidi-font-family: Arial">Newburyport</SPAN></st1:place></st1:City><SPAN style="FONT-FAMILY: Calibri\; FONT-SIZE: 14pt\; mso-bidi-font-family: Arial">.<SPAN style="mso-spacerun: yes">&nbsp\; </SPAN>Catch the holiday spirit and enjoy pleasant conversation with chamber friends&nbsp\;and colleagues.</SPAN><SPAN style="FONT-FAMILY: Calibri\; FONT-SIZE: 14pt"><o:p></o:p></SPAN></FONT></P><P style="MARGIN: 0in 0in 0pt" class=MsoNormal><SPAN style="FONT-FAMILY: Calibri\; FONT-SIZE: 14pt"><FONT color=#000000>&nbsp\;<o:p></o:p></FONT></SPAN></P><P style="MARGIN: 0in 0in 0pt" class=MsoNormal><SPAN style="FONT-FAMILY: Calibri\; FONT-SIZE: 14pt"><FONT color=#000000>Delicious hors d’oeuvres<SPAN style="mso-spacerun: yes">&nbsp\; </SPAN>*<SPAN style="mso-spacerun: yes">&nbsp\; </SPAN>Raffles<SPAN style="mso-spacerun: yes">&nbsp\; </SPAN>*<SPAN style="mso-spacerun: yes">&nbsp\; </SPAN>Cash Bar<o:p></o:p></FONT></SPAN></P><P style="MARGIN: 0in 0in 0pt" class=MsoNormal><FONT color=#000000><st1:time Hour="17" Minute="30"><SPAN style="FONT-FAMILY: Calibri\; FONT-SIZE: 14pt">5:30 – 7:30pm</SPAN></st1:time><SPAN style="FONT-FAMILY: Calibri\; FONT-SIZE: 14pt"><o:p></o:p></SPAN></FONT></P><P style="MARGIN: 0in 0in 0pt" class=MsoNormal><SPAN style="FONT-FAMILY: Calibri\; FONT-SIZE: 14pt"><o:p><FONT color=#000000>&nbsp\;</FONT></o:p></SPAN></P><P style="MARGIN: 0in 0in 0pt" class=MsoNormal><SPAN style="FONT-FAMILY: Calibri\; FONT-SIZE: 14pt"><FONT color=#000000>Admission:<o:p></o:p></FONT></SPAN></P><P style="MARGIN: 0in 0in 0pt" class=MsoNormal><SPAN style="FONT-FAMILY: Calibri\; FONT-SIZE: 14pt"><FONT color=#000000>$10 Members<o:p></o:p></FONT></SPAN></P><P style="MARGIN: 0in 0in 0pt" class=MsoNormal><SPAN style="FONT-FAMILY: Calibri\; FONT-SIZE: 14pt"><FONT color=#000000>$20 Non Members and guests</FONT></SPAN></P><P style="MARGIN: 0in 0in 0pt" class=MsoNormal><SPAN style="FONT-FAMILY: Calibri\; FONT-SIZE: 14pt"><FONT color=#0000ff><EM><STRONG>* Payment can be made at door\, not online.<o:p></o:p></STRONG></EM></FONT></SPAN></P></FONT></FONT></FONT></FONT><FONT size=4 face=Arial></FONT></DIV><DIV><EM><STRONG><FONT color=#ff0000></FONT></STRONG></EM>&nbsp\;</DIV>
LOCATION:Annual Holiday Mixer
UID:e.1189.1487
SEQUENCE:3
DTSTAMP:20260420T124452Z
URL:https://business.newburyportchamber.org/events/details/annual-holiday-members-mixer-12-08-2010-1487
END:VEVENT

END:VCALENDAR
