BEGIN:VCALENDAR
VERSION:2.0
PRODID:-//ChamberMaster//Event Calendar 2.0//EN
METHOD:PUBLISH
X-PUBLISHED-TTL:P3D
REFRESH-INTERVAL:P3D
CALSCALE:GREGORIAN
BEGIN:VEVENT
DTSTART:20091028T040000Z
DTEND:20091028T040000Z
X-MICROSOFT-CDO-ALLDAYEVENT:FALSE
SUMMARY:Annual Halloween Mixer - Cameron Office Products
DESCRIPTION:Annual Halloween Mixer at\nCameron Office Products\nin conjunction with the Amesbury Chamber of Commerce8th  Annual Halloween Party – Wednesday\, October 28th from 5:30-7:30 p.m. –   Come visit the haunted office and enjoy an evening of fun and networking!  Entertainment includes music\, DJ and Scaryoke!!! Free Taro card readings. Prizes will be awarded for Scariest Costume\, Best Costume\, Most Unique Costume and Most Outlandish Costume.  One free drink to anyone who comes in costume.RSVP to Amesbury Chamber of Commerce at 978-388-3178 or register online.
X-ALT-DESC;FMTTYPE=text/html:<DIV style="FONT-FAMILY: Arial"><P align=left><FONT size=4></FONT></P><P align=left><STRONG><FONT color=#ff8000 size=4>Annual Halloween Mixer at<BR></FONT></STRONG><STRONG><FONT color=#ff8000 size=4><FONT color=#000000>Cameron Office Products</FONT><BR>in conjunction with the Amesbury Chamber of Commerce</FONT></STRONG></P><STRONG><FONT color=#000000 size=4><P align=left>8<SUP>th</SUP> <SPAN style="mso-spacerun: yes">&nbsp\;</SPAN>Annual Halloween Party – Wednesday\, October 28<SUP>th</SUP> from 5:30-7:30 p.m. –&nbsp\;<SPAN style="mso-spacerun: yes">&nbsp\; </SPAN>Come visit the haunted office and enjoy an evening of fun and networking!<SPAN style="mso-spacerun: yes">&nbsp\; </SPAN>Entertainment includes music\, <FONT size=2><FONT size=4>DJ and Scaryoke!!!&nbsp\;</FONT></FONT>Free Taro card readings. Prizes will be awarded for Scariest Costume\, Best Costume\, Most Unique Costume and Most Outlandish Costume.<SPAN style="mso-spacerun: yes">&nbsp\; </SPAN></P><P align=left><SPAN style="mso-spacerun: yes">One </SPAN>free drink&nbsp\;to anyone who comes in costume.</P><P align=left><FONT color=#ff8040>R</FONT><FONT color=#ff8040>SVP to Amesbury Chamber of Commerce at 978-388-3178 or register online.</FONT></P></FONT></STRONG><P align=left><EM><FONT size=4></FONT></EM>&nbsp\;</P></DIV>
LOCATION:Cameron Office Products
UID:e.1189.1313
SEQUENCE:3
DTSTAMP:20260421T170037Z
URL:https://business.newburyportchamber.org/events/details/annual-halloween-mixer-cameron-office-products-10-28-2009-1313
END:VEVENT

END:VCALENDAR
