BEGIN:VCALENDAR
VERSION:2.0
PRODID:-//ChamberMaster//Event Calendar 2.0//EN
METHOD:PUBLISH
X-PUBLISHED-TTL:P3D
REFRESH-INTERVAL:P3D
CALSCALE:GREGORIAN
BEGIN:VEVENT
DTSTART:20110627T140000Z
DTEND:20110627T210000Z
X-MICROSOFT-CDO-ALLDAYEVENT:FALSE
SUMMARY:Annual Golf Tournament 2011
DESCRIPTION:22nd Annual Golf Tournament\n\nPortsmouth Country Club\n\nMonday\, June 27\, 2011\n\n10:00AM Shotgun Start\n\n\n\nClick Here for more details!
X-ALT-DESC;FMTTYPE=text/html:<p style="font-family: Calibri"><font face="Arial"><font size="2"><strong>22nd Annual Golf Tournament</strong><br />\nPortsmouth Country Club<br />\nMonday\, June 27\, 2011<br />\n10:00AM Shotgun Start</font></font><br />\n<br />\n<a href="http://www.newburyportchamber.org/golf.shtml" target="_blank"><span style="color: #000000"><font face="Arial" size="2">Click Here</font></span></a><font face="Arial" size="2"> for more details!</font></p>\n
LOCATION:Portsmouth Country Club 80 Country Club Lane Greenland\, NH 03840
UID:e.1189.1773
SEQUENCE:3
DTSTAMP:20260420T015733Z
URL:https://business.newburyportchamber.org/events/details/annual-golf-tournament-2011-1773
END:VEVENT

END:VCALENDAR
