BEGIN:VCALENDAR
VERSION:2.0
PRODID:-//ChamberMaster//Event Calendar 2.0//EN
METHOD:PUBLISH
X-PUBLISHED-TTL:P3D
REFRESH-INTERVAL:P3D
CALSCALE:GREGORIAN
BEGIN:VEVENT
DTSTART:20100628T040000Z
DTEND:20100628T040000Z
X-MICROSOFT-CDO-ALLDAYEVENT:FALSE
SUMMARY:Annual Golf Tournament 2010
DESCRIPTION:21st Annual Golf Tournament\n\nAbenaqui Country Club\n\nMonday\, June 28\, 2010\n\n1:00 PM Shotgun Start  ?  Scramble Format\n\n\n\nCLICK HERE for more details!
X-ALT-DESC;FMTTYPE=text/html:<p style="FONT-FAMILY: Calibri"><font face="Arial"><font size="2"><strong>21st Annual Golf Tournament</strong><br>\nAbenaqui Country Club<br>\nMonday\, June 28\, 2010<br>\n1:00 PM Shotgun Start&nbsp\;<span style="FONT-FAMILY: Calibri"> <font color="#0f2031">?</font>&nbsp\; Scramble Format</span></font></font><br>\n<br>\n<a href="http://www.newburyportchamber.org/golf.shtml" target="_blank"><span style="COLOR: #000000"><font face="Arial" size="2">CLICK HERE</font></span></a><font face="Arial" size="2"> for more details!</font></p>\n
LOCATION:Abenaqui Country Club
UID:e.1189.1533
SEQUENCE:3
DTSTAMP:20260421T050149Z
URL:https://business.newburyportchamber.org/events/details/annual-golf-tournament-2010-1533
END:VEVENT

END:VCALENDAR
