BEGIN:VCALENDAR
VERSION:2.0
PRODID:-//ChamberMaster//Event Calendar 2.0//EN
METHOD:PUBLISH
X-PUBLISHED-TTL:P3D
REFRESH-INTERVAL:P3D
CALSCALE:GREGORIAN
BEGIN:VEVENT
DTSTART:20110818T213000Z
DTEND:20110819T010000Z
X-MICROSOFT-CDO-ALLDAYEVENT:FALSE
SUMMARY:Annual Boat Cruise Mixer 2011 - SOLD OUT!!!
DESCRIPTION:SOLD OUT!!\n\n			Annual Member Boat Cruise - Dinner & Live Music\n		\n			Join us for a sunset sail on the Merrimack River on the Captain's Lady with your Captain George Charos\n		\n			 \n		\n			Check-in 5:30 PM at Plum Island Point\n		\n			Sail 6:00 PM - 9:00 PM\n		\n			 \n		\n			Dinner catered by Starboard Galley.  Great raffles\n		\n			 \n		\n			Music by our own local bluesy hipster Justin Quinn and Roll & Tumble \n		\n			 \n		\n			Members: $30\n		\n			Non Members:  $35\n		\n			Rain or shine Sorry\, no refunds\n		\n			 \n		\n			* Directions: Follow Water Street to the PI Turnpike out of downtown NBPT to the very end\, go left on to Northern Blvd to the end.  The boat is located at the very tip of Plum Island Point. It is a good 15 minute drive from downtown.
X-ALT-DESC;FMTTYPE=text/html:<div>\n	<span _fck_bookmark="1" style="display: none"><span _fck_bookmark="1" style="display: none">&nbsp\;</span>&nbsp\;</span><span _fck_bookmark="1" style="display: none">&nbsp\;</span>\n	<div>\n		<p class="MsoNormal" style="margin: 0in 0in 0pt">\n			<strong><span style="font-size: 20px"><span style="color: #ff0000"><span><span style="font-family: calibri\; font-weight: normal\; mso-bidi-font-weight: bold">SOLD OUT!!</span></span></span></span><br />\n			<font color="#0000ff" size="4"><span><font color="#0000ff"><span style="font-family: calibri\; font-weight: normal\; mso-bidi-font-weight: bold"><strong>Annual Member Boat Cruise - Dinner &amp\; Live Music</strong></span></font></span></font></strong></p>\n		<p class="MsoNormal" style="margin: 0in 0in 0pt">\n			<strong><font color="#0000ff" size="4"><span><font size="3"><font color="#000000"><strong><span style="font-family: calibri\; font-weight: normal\; mso-bidi-font-weight: bold">Join us for a sunset sail on the Merrimack River on the Captain&#39\;s Lady with your Captain George Charos</span></strong></font></font></span></font></strong></p>\n		<p class="MsoNormal" style="margin: 0in 0in 0pt">\n			<strong><font color="#0000ff" size="4"><span style="font-family: calibri"><font size="3"><font color="#000000">&nbsp\;</font></font></span></font></strong></p>\n		<p class="MsoNormal" style="margin: 0in 0in 0pt">\n			<strong><span style="color: #ff0000"><font size="4"><span><font size="3"><font face="Calibri">Check-in 5:30 PM</font></font></span></font></span><font color="#0000ff" size="4"><span><font size="3"><font color="#000000"><font face="Calibri"> at Plum Island Point</font></font></font></span></font></strong></p>\n		<p class="MsoNormal" style="margin: 0in 0in 0pt">\n			<strong><font color="#0000ff" size="4"><span><font size="3"><font color="#000000"><font face="Calibri">Sail 6:00 PM - 9:00 PM</font></font></font></span></font></strong></p>\n		<p class="MsoNormal" style="margin: 0in 0in 0pt">\n			<strong><font color="#0000ff" size="4"><span style="font-family: calibri"><font color="#000000" size="3">&nbsp\;</font></span></font></strong></p>\n		<p class="MsoNormal" style="margin: 0in 0in 0pt">\n			<strong><font color="#0000ff" size="4"><font size="3"><font color="#000000"><strong><span style="font-family: calibri\; font-weight: normal\; mso-bidi-font-weight: bold">Dinner catered by Starboard Galley.&nbsp\; Great raffles</span></strong></font></font></font></strong></p>\n		<p class="MsoNormal" style="margin: 0in 0in 0pt">\n			<strong><font color="#0000ff" size="4">&nbsp\;</font></strong></p>\n		<p class="MsoNormal" style="margin: 0in 0in 0pt">\n			<font color="#0000ff" size="4"><span style="font-family: calibri"><font size="3"><font color="#000000">Music by our own&nbsp\;local bluesy hipster</font></font></span></font><strong><font color="#0000ff" size="4"><span style="font-family: calibri"><font size="3"><font color="#000000"> <a datafld="0:0" href="http://www.youtube.com/watch?v=6DtxViRKES8" style="color: blue\; text-decoration: underline" target="_NewWindow" title="">Justin Quinn and&nbsp\;Roll &amp\; Tumble</a></font></font></span><span style="font-family: calibri"><font size="3"><font color="#000000">&nbsp\;</font></font></span></font></strong></p>\n		<p class="MsoNormal" style="margin: 0in 0in 0pt">\n			<strong><font color="#0000ff" size="4">&nbsp\;</font></strong></p>\n		<p class="MsoNormal" style="margin: 0in 0in 0pt">\n			<strong><font color="#0000ff" size="4"><font size="3"><font color="#000000"><strong><span style="font-family: calibri\; font-weight: normal\; mso-bidi-font-weight: bold">Members:&nbsp\;$30</span></strong></font></font></font></strong></p>\n		<p class="MsoNormal" style="margin: 0in 0in 0pt">\n			<strong><font color="#0000ff" size="4"><strong><span style="font-family: calibri\; font-weight: normal\; mso-bidi-font-weight: bold"><font color="#000000" size="3">Non Members:&nbsp\; $35</font></span></strong></font></strong></p>\n		<p class="MsoNormal" style="margin: 0in 0in 0pt">\n			<strong><font color="#0000ff" size="4"><span style="font-family: calibri"><em><strong><font size="3"><font color="#000000"><span style="font-family: calibri\; font-weight: normal\; mso-bidi-font-weight: bold">Rain or shine </span></font></font><font size="3"><font color="#000000"><span style="font-family: calibri\; font-weight: normal\; mso-bidi-font-weight: bold">Sorry\, no refunds</span></font></font></strong></em></span></font></strong></p>\n		<p class="MsoNormal" style="margin: 0in 0in 0pt">\n			<strong><font color="#0000ff" size="4"><span style="font-family: calibri">&nbsp\;</span></font></strong></p>\n		<p class="MsoNormal" style="margin: 0in 0in 0pt">\n			<strong><font color="#0000ff" size="4"><span style="font-family: calibri"><em><font color="#ff0000" size="3"><span style="font-family: calibri\; font-weight: normal\; mso-bidi-font-weight: bold"><strong><font color="#0000ff">* Directions:</font> Follow Water Street to the PI Turnpike&nbsp\;out of downtown NBPT to the very end\, go left on to Northern Blvd to the&nbsp\;end.&nbsp\; The boat is located at the very tip of </strong></span></font></em><em><font color="#ff0000" size="3"><span style="font-family: calibri\; font-weight: normal\; mso-bidi-font-weight: bold"><strong>Plum Island Point.&nbsp\;It is a&nbsp\;good 15 minute drive from downtown.</strong></span></font></em></span></font></strong></p>\n	</div>\n</div>\n
LOCATION:Captain's Fishing Parties Plum Island Point 10 82nd Street
UID:e.1189.1653
SEQUENCE:3
DTSTAMP:20260419T224923Z
URL:https://business.newburyportchamber.org/events/details/annual-boat-cruise-mixer-2011-sold-out-08-18-2011-1653
END:VEVENT

END:VCALENDAR
