BEGIN:VCALENDAR
VERSION:2.0
PRODID:-//ChamberMaster//Event Calendar 2.0//EN
METHOD:PUBLISH
X-PUBLISHED-TTL:P3D
REFRESH-INTERVAL:P3D
CALSCALE:GREGORIAN
BEGIN:VEVENT
DTSTART:20100811T040000Z
DTEND:20100811T040000Z
X-MICROSOFT-CDO-ALLDAYEVENT:FALSE
SUMMARY:Annual Boat Cruise Mixer 2010
DESCRIPTION:Annual Member Boat CruiseSail the Merrimack River on the Prince of Whales Check-in 5:30 pm on theBoardwalk - to the right of the Black Cow\nBoard and Sail 6:15 until 9:00pm Rain or shineSorry\, no refunds Dinner Catered by Starboard Galley * Raffles\nMusic by By Blind Billy and the Spectacles   Members: $30Non Members:  $35
X-ALT-DESC;FMTTYPE=text/html:<DIV><STRONG><FONT color=#0000ff size=4><P style="MARGIN: 0in 0in 0pt" class=MsoNormal><SPAN>Annual Member Boat Cruise<?xml:namespace prefix = o ns = "urn:schemas-microsoft-com:office:office" /><o:p></o:p></SPAN></P><P style="MARGIN: 0in 0in 0pt" class=MsoNormal><SPAN style="FONT-FAMILY: Calibri\; COLOR: blue\; FONT-SIZE: 13.5pt">Sail the </SPAN><?xml:namespace prefix = st1 ns = "urn:schemas-microsoft-com:office:smarttags" /><st1:place><SPAN style="FONT-FAMILY: Calibri\; COLOR: blue\; FONT-SIZE: 13.5pt">Merrimack River</SPAN></st1:place><SPAN> on the Prince of Whales<o:p></o:p></SPAN></P><P style="MARGIN: 0in 0in 0pt" class=MsoNormal><SPAN style="FONT-FAMILY: Calibri"><FONT size=3><FONT color=#000000>&nbsp\;<o:p></o:p></FONT></FONT></SPAN></P><P style="MARGIN: 0in 0in 0pt" class=MsoNormal><SPAN><FONT color=#ff0000>Check-in 5:30 pm</FONT><FONT color=#000000 size=3> on the</FONT></SPAN></P><P style="MARGIN: 0in 0in 0pt" class=MsoNormal><SPAN><FONT color=#000000 size=3>Boa</FONT></SPAN><SPAN><FONT color=#000000 size=3>rdwalk - to the right of the Black Cow<BR>Board and </FONT><FONT color=#ff0000>Sail 6:15</FONT><FONT color=#000000> <FONT size=3>until 9:00pm<SPAN style="COLOR: red"><o:p></o:p></SPAN></FONT></FONT></SPAN></P><P style="MARGIN: 0in 0in 0pt" class=MsoNormal><SPAN style="FONT-FAMILY: Calibri"><o:p><FONT color=#000000 size=3>&nbsp\;</FONT></o:p></SPAN></P><P style="MARGIN: 0in 0in 0pt" class=MsoNormal><FONT size=3><FONT color=#000000><STRONG><SPAN style="FONT-FAMILY: Calibri\; FONT-WEIGHT: normal\; mso-bidi-font-weight: bold">Rain or shine</SPAN></STRONG><SPAN style="FONT-FAMILY: Calibri"><o:p></o:p></SPAN></FONT></FONT></P><P style="MARGIN: 0in 0in 0pt" class=MsoNormal><FONT size=3><FONT color=#000000><STRONG><SPAN style="FONT-FAMILY: Calibri\; FONT-WEIGHT: normal\; mso-bidi-font-weight: bold">Sorry\, no refunds</SPAN></STRONG><SPAN style="FONT-FAMILY: Calibri"><o:p></o:p></SPAN></FONT></FONT></P><P style="MARGIN: 0in 0in 0pt" class=MsoNormal><SPAN style="FONT-FAMILY: Calibri"><FONT size=3><FONT color=#000000>&nbsp\;<o:p></o:p></FONT></FONT></SPAN></P><P style="MARGIN: 0in 0in 0pt" class=MsoNormal><SPAN style="FONT-FAMILY: Calibri"><FONT size=3><FONT color=#000000>Dinner Catered by Starboard Galley * Raffles<BR>Music by By <A style="COLOR: blue\; TEXT-DECORATION: underline" title="" dataFld=0:0 href="http://www.blindbilly.com" target=_NewWindow>Blind Billy and the Spectacles</A> </FONT></FONT></SPAN></P><P style="MARGIN: 0in 0in 0pt" class=MsoNormal><SPAN style="FONT-FAMILY: Calibri"><FONT size=3><FONT color=#000000>&nbsp\;&nbsp\;<o:p></o:p></FONT></FONT></SPAN></P><P style="MARGIN: 0in 0in 0pt" class=MsoNormal><FONT size=3><FONT color=#000000><STRONG><SPAN style="FONT-FAMILY: Calibri\; FONT-WEIGHT: normal\; mso-bidi-font-weight: bold">Members:&nbsp\;$30</SPAN></STRONG><SPAN style="FONT-FAMILY: Calibri"><o:p></o:p></SPAN></FONT></FONT></P><P style="MARGIN: 0in 0in 0pt" class=MsoNormal><STRONG><SPAN style="FONT-FAMILY: Calibri\; FONT-WEIGHT: normal\; mso-bidi-font-weight: bold"><FONT color=#000000 size=3>Non Members:&nbsp\; $35</FONT></SPAN></STRONG><SPAN style="FONT-FAMILY: Calibri"><o:p></o:p></SPAN></P></FONT></STRONG></DIV><DIV><STRONG><FONT color=#ff0000></FONT></STRONG>&nbsp\;</DIV><DIV><STRONG><FONT color=#ff0000></FONT></STRONG>&nbsp\;</DIV>
LOCATION:Prince of Whales
UID:e.1189.1570
SEQUENCE:3
DTSTAMP:20260421T012739Z
URL:https://business.newburyportchamber.org/events/details/annual-boat-cruise-mixer-2010-08-11-2010-1570
END:VEVENT

END:VCALENDAR
