BEGIN:VCALENDAR
VERSION:2.0
PRODID:-//ChamberMaster//Event Calendar 2.0//EN
METHOD:PUBLISH
X-PUBLISHED-TTL:P3D
REFRESH-INTERVAL:P3D
CALSCALE:GREGORIAN
BEGIN:VEVENT
DTSTART:20090826T040000Z
DTEND:20090826T040000Z
X-MICROSOFT-CDO-ALLDAYEVENT:FALSE
SUMMARY:Annual Boat Cruise Mixer 2009
DESCRIPTION:Annual Boat Cruise - Music and DinnerSail the Merrimack River out of Plum Island\nPoint on the Captain's Lady Check-in 5:30pm \nSail 6-9pmRain or shine Dinner by Starboard GalleyMusic by Blind Billy & The Spectacles Members $30\nNon Members and Guests  $35Sorry\, no refunds\nCancellations must be made at least 24 hours prior to event to avoid billing. Directions:  Follow Water Street towards Plum Island over the causeway.\nWhen you get to the very end\, bear left onto Northern Boulevard and follow\nto very end.  ** It is a good 10+ minute drive from downtown Newburyport.
X-ALT-DESC;FMTTYPE=text/html:<DIV><STRONG><FONT color=#0000ff size=4>Annual Boat Cruise - Music and Dinner</FONT></STRONG></DIV><DIV><STRONG><FONT color=#0000ff size=4>Sail the Merrimack River out of Plum Island<BR>Point on the Captain's Lady</FONT></STRONG></DIV><DIV>&nbsp\;</DIV><DIV><STRONG>Check-in 5:30pm</STRONG> <BR>Sail 6-9pm</DIV><DIV><STRONG><FONT color=#0000ff>Rain or shine</FONT></STRONG></DIV><DIV><DIV><STRONG><FONT color=#ff0000></FONT></STRONG>&nbsp\;</DIV></DIV><DIV>Dinner by Starboard Galley</DIV><DIV>Music by Blind Billy &amp\; The Spectacles</DIV><DIV>&nbsp\;</DIV><DIV><STRONG><FONT color=#0000ff>Members $30<BR>Non Members and Guests&nbsp\; $35</FONT></STRONG></DIV><DIV><STRONG><FONT color=#0000ff>Sorry\, no refunds</FONT></STRONG></DIV><DIV><STRONG><FONT color=#ff0000><BR>Cancellations must be made at least 24 hours prior to event to avoid billing.</FONT></STRONG></DIV><DIV><STRONG><FONT color=#ff0000></FONT></STRONG>&nbsp\;</DIV><DIV><STRONG><FONT color=#ff0000><FONT color=#000000><FONT color=#ff0000>Directions:</FONT>&nbsp\; Follow Water Street towards Plum Island over the causeway.<BR>When you get to the very end\, bear <EM>left</EM>&nbsp\;onto Northern Boulevard and follow<BR>to very end.</FONT>&nbsp\;&nbsp\;** </FONT><FONT color=#000000>It is a&nbsp\;good 10+ minute drive from downtown Newburyport.</FONT></STRONG></DIV>
LOCATION:Captain's Lady
UID:e.1189.1249
SEQUENCE:3
DTSTAMP:20260421T202232Z
URL:https://business.newburyportchamber.org/events/details/annual-boat-cruise-mixer-2009-08-26-2009-1249
END:VEVENT

END:VCALENDAR
