BEGIN:VCALENDAR
VERSION:2.0
PRODID:-//ChamberMaster//Event Calendar 2.0//EN
METHOD:PUBLISH
X-PUBLISHED-TTL:P3D
REFRESH-INTERVAL:P3D
CALSCALE:GREGORIAN
BEGIN:VEVENT
DTSTART:20111015T220000Z
DTEND:20111016T020000Z
X-MICROSOFT-CDO-ALLDAYEVENT:FALSE
SUMMARY:Annual African Dinner & Dance
DESCRIPTION:The Greater Newburyport/Bura Alliance once again sponsors a Dinner & Dance to help fund our projects in Newburyport's Sister Village in Kenya.\n\n\n\nFeast on dozens of home-cooked African dishes and dance to the drumming and singing of Greg Coles Dance and Drum. Join families\, singles and friends of all ages who pack this event each year. Shop for jewelry\, textiles and other Kenyan gifts\, bid for items in the silent auction\, and learn about the people and culture of Bura. Kick back or kick up your heels as you sample tasty African food and a cash bar.
X-ALT-DESC;FMTTYPE=text/html:The Greater Newburyport/Bura Alliance once again sponsors a Dinner &amp\; Dance to help fund our projects in Newburyport&#39\;s Sister Village in Kenya.<br />\n<br />\nFeast on dozens of home-cooked African dishes and dance to the drumming and singing of Greg Coles Dance and Drum. Join families\, singles and friends of all ages who pack this event each year. Shop for jewelry\, textiles and other Kenyan gifts\, bid for items in the silent auction\, and learn about the people and culture of Bura. Kick back or kick up your heels as you sample tasty African food and a cash bar.&nbsp\;
LOCATION:Elks Hall\, Low Street\, Newburyport
UID:e.1189.2253
SEQUENCE:3
DTSTAMP:20260419T191407Z
URL:https://business.newburyportchamber.org/events/details/annual-african-dinner-dance-10-15-2011-2253
END:VEVENT

END:VCALENDAR
