BEGIN:VCALENDAR
VERSION:2.0
PRODID:-//ChamberMaster//Event Calendar 2.0//EN
METHOD:PUBLISH
X-PUBLISHED-TTL:P3D
REFRESH-INTERVAL:P3D
CALSCALE:GREGORIAN
BEGIN:VEVENT
DTSTART;VALUE=DATE:20110626
DTEND;VALUE=DATE:20110627
TRANSP:TRANSPARENT
X-MICROSOFT-CDO-ALLDAYEVENT:TRUE
SUMMARY:A Spiritual Direction Workshop
DESCRIPTION:A Spiritual Direction Workshop (Sunday dinner   Thursday lunch). Are you feeling called to deepeny our relationship with the Divine? Are you called to be a spiritual director? Are you a practicing spiritual director who needs to feel refreshed in your skills? This workshop will address the needs ofthose thinking of finding a spiritual director and those seeking discernment about this vocation\, aswell as current directors wanting to refresh their skills. Come join us for a week that will include both didactic and experiential learning with time for reflection\, journaling\, art and prayer. You will be glad you did!Leaders: Jeanette Renouf\, SCHC\, PhD\, DMin   Is a founder and teacher in TheTacheria Interfaith School of Spiritual Direction and Hesychia School of Spiritual Direction\, bothin Tucson\, AZ. Jeanette is a practicing spiritual director\, trained at South London Institute of Spiritual Direction in England\, and conducts workshops and retreats around the world. Gillian Thomas\, SCHC\,MA   Following her career as a community planner\, Gilli trained in spiritual direction at General Theological Seminary in New York City and has a practice in Madison\, NJ\, which she combines withher love of gardening. Joan Bowers\, SCHC\, MA\, is a college instructor in New Hampshire as well as a leader of spiritual formation courses and retreats. She is a practicing spiritual director\, trainedat the Hesychia School of Spiritual Direction in Tucson\, AZ. Program fee $120 Room &amp\; board $400 Total cost $520Program check-in 4:00   6:00 pm Sunday
X-ALT-DESC;FMTTYPE=text/html:A Spiritual Direction Workshop (Sunday dinner &ndash\; Thursday lunch). Are you feeling called to deepeny our relationship with the Divine? Are you called to be a spiritual director? Are you a practicing spiritual director who needs to feel refreshed in your skills? This workshop will address the needs ofthose thinking of finding a spiritual director and those seeking discernment about this vocation\, aswell as current directors wanting to refresh their skills. Come join us for a week that will include both didactic and experiential learning with time for reflection\, journaling\, art and prayer. You will be glad you did!Leaders: Jeanette Renouf\, SCHC\, PhD\, DMin &ndash\; Is a founder and teacher in TheTacheria Interfaith School of Spiritual Direction and Hesychia School of Spiritual Direction\, bothin Tucson\, AZ. Jeanette is a practicing spiritual director\, trained at South London Institute of Spiritual Direction in England\, and conducts workshops and retreats around the world. Gillian Thomas\, SCHC\,MA &ndash\; Following her career as a community planner\, Gilli trained in spiritual direction at General Theological Seminary in New York City and has a practice in Madison\, NJ\, which she combines withher love of gardening. Joan Bowers\, SCHC\, MA\, is a college instructor in New Hampshire as well as a leader of spiritual formation courses and retreats. She is a practicing spiritual director\, trainedat the Hesychia School of Spiritual Direction in Tucson\, AZ. Program fee $120 Room &amp\;amp\; board $400 Total cost $520Program check-in 4:00 &ndash\; 6:00 pm Sunday 
LOCATION:Adelynrood Retreat and Conference Center 46 Elm Streeet Byfield 978-462-6721
UID:e.1189.1946
SEQUENCE:3
DTSTAMP:20260420T015728Z
URL:https://business.newburyportchamber.org/events/details/a-spiritual-direction-workshop-06-26-2011-1946
END:VEVENT

END:VCALENDAR
