BEGIN:VCALENDAR
VERSION:2.0
PRODID:-//ChamberMaster//Event Calendar 2.0//EN
METHOD:PUBLISH
X-PUBLISHED-TTL:P3D
REFRESH-INTERVAL:P3D
CALSCALE:GREGORIAN
BEGIN:VEVENT
DTSTART:20120226T003000Z
DTEND:20120226T030000Z
X-MICROSOFT-CDO-ALLDAYEVENT:FALSE
SUMMARY:A Night of Rockin' A Cappella with Tuckermans at 9
DESCRIPTION:First Parish Church of Newbury welcomes Tuckermans at 9 for a Night of Rockin' A Cappella on Saturday\, February 25th at 7:30pm. Their voices are also the instruments!
X-ALT-DESC;FMTTYPE=text/html:First Parish Church of Newbury welcomes Tuckermans at 9 for a Night of Rockin&#39\; A Cappella on Saturday\, February 25th at 7:30pm. Their voices are also the instruments!
LOCATION:First Parish Church of Newbury\, 20 High Road\, Newbury\, MA 01951
UID:e.1189.2954
SEQUENCE:3
DTSTAMP:20260419T141620Z
URL:https://business.newburyportchamber.org/events/details/a-night-of-rockin-a-cappella-with-tuckermans-at-9-02-25-2012-2954
END:VEVENT

END:VCALENDAR
