BEGIN:VCALENDAR
VERSION:2.0
PRODID:-//ChamberMaster//Event Calendar 2.0//EN
METHOD:PUBLISH
X-PUBLISHED-TTL:P3D
REFRESH-INTERVAL:P3D
CALSCALE:GREGORIAN
BEGIN:VEVENT
DTSTART;VALUE=DATE:20111211
DTEND;VALUE=DATE:20111212
TRANSP:TRANSPARENT
X-MICROSOFT-CDO-ALLDAYEVENT:TRUE
SUMMARY:A Medieval Christmas Concert
DESCRIPTION:Celebrate the holidays with Camerata's most beloved program of all time! "A Medieval Christmas"\, absent for many years from the Boston area\, now returns with its enchanting music and eternally powerful story of the Nativity.  Magnificent medieval song and poetry from France\, Provence\, England\, and Germany\, performed by a virtuoso consort of voices and instruments\, will fill the ears and warm the hearts of old Camerata friends and newcomers alike.
X-ALT-DESC;FMTTYPE=text/html:Celebrate the holidays with Camerata&#39\;s most beloved program of all time! &quot\;A Medieval Christmas&quot\;\, absent for many years from the Boston area\, now returns with its enchanting music and eternally powerful story of the Nativity.&nbsp\; Magnificent medieval song and poetry from France\, Provence\, England\, and Germany\, performed by a virtuoso consort of voices and instruments\, will fill the ears and warm the hearts of old Camerata friends and newcomers alike.
LOCATION:The First Parish Church of Newbury High Rd Newbury
UID:e.1189.2403
SEQUENCE:3
DTSTAMP:20260419T172845Z
URL:https://business.newburyportchamber.org/events/details/a-medieval-christmas-concert-12-11-2011-2403
END:VEVENT

END:VCALENDAR
