BEGIN:VCALENDAR
VERSION:2.0
PRODID:-//ChamberMaster//Event Calendar 2.0//EN
METHOD:PUBLISH
X-PUBLISHED-TTL:P3D
REFRESH-INTERVAL:P3D
CALSCALE:GREGORIAN
BEGIN:VEVENT
DTSTART;VALUE=DATE:20120217
DTEND;VALUE=DATE:20120218
TRANSP:TRANSPARENT
X-MICROSOFT-CDO-ALLDAYEVENT:TRUE
SUMMARY:A Mardi Gras Celebration
DESCRIPTION:A Mardi Gras Celebration\, featuring 2012 Grammy nominated Steve Riley and the Mamou Playboys will be held on Friday\, February 17\, 2012 at 8:00PM at Belleville Congregational Church\, 300 High Street\, Newburyport. Concert tickets are $20 in advance/$25 day of show/ children 12 and under $10. A Cajun dinner\, catered by Karen Kelly Dardinski of Newburyport\, will be held from 6:00-7:30PM. Dinner tickets are priced at $15. Advance purchase of dinner tickets is required. Additional beverages and desserts will\, also\, be available. For more information\, email: bellevilleconcerts@gmail.com or visit: www.bellevillechurch.org/concerts.php.
X-ALT-DESC;FMTTYPE=text/html:A Mardi Gras Celebration\, featuring 2012 Grammy nominated Steve Riley and the Mamou Playboys will be held on Friday\, February 17\, 2012 at 8:00PM at Belleville Congregational Church\, 300 High Street\, Newburyport. Concert tickets are $20 in advance/$25 day of show/ children 12 and under $10. A Cajun dinner\, catered by Karen Kelly&nbsp\;Dardinski of Newburyport\, will be held from 6:00-7:30PM. Dinner tickets are priced at $15. Advance purchase of dinner tickets is required. Additional beverages and&nbsp\;desserts will\, also\, be available. For more information\, email: <a href="mailto:bellevilleconcerts@gmail.com">bellevilleconcerts@gmail.com</a>&nbsp\;or visit: <a href="http://www.bellevillechurch.org/concerts.php">www.bellevillechurch.org/concerts.php</a>.<br />\n&nbsp\;<br />\n
LOCATION:Belleville Congregational Church 300 High Street Newburyport.
UID:e.1189.2689
SEQUENCE:3
DTSTAMP:20260419T124141Z
URL:https://business.newburyportchamber.org/events/details/a-mardi-gras-celebration-02-17-2012-2689
END:VEVENT

END:VCALENDAR
