BEGIN:VCALENDAR
VERSION:2.0
PRODID:-//ChamberMaster//Event Calendar 2.0//EN
METHOD:PUBLISH
X-PUBLISHED-TTL:P3D
REFRESH-INTERVAL:P3D
CALSCALE:GREGORIAN
BEGIN:VEVENT
DTSTART:20110717T180000Z
DTEND:20110717T200000Z
X-MICROSOFT-CDO-ALLDAYEVENT:FALSE
SUMMARY:60s Invasion
DESCRIPTION:
X-ALT-DESC;FMTTYPE=text/html:
LOCATION:Maudslay Arts Center 95 Curzon Mill Rd.\, Maudslay State Park Newburyport
UID:e.1189.1978
SEQUENCE:3
DTSTAMP:20260420T015722Z
URL:https://business.newburyportchamber.org/events/details/60s-invasion-07-17-2011-1978
END:VEVENT

END:VCALENDAR
