BEGIN:VCALENDAR
VERSION:2.0
PRODID:-//ChamberMaster//Event Calendar 2.0//EN
METHOD:PUBLISH
X-PUBLISHED-TTL:P3D
REFRESH-INTERVAL:P3D
CALSCALE:GREGORIAN
BEGIN:VEVENT
DTSTART:20111001T160000Z
DTEND:20111001T190000Z
X-MICROSOFT-CDO-ALLDAYEVENT:FALSE
SUMMARY:4th Annual Chili Cook-Off
DESCRIPTION:On Saturday\, October 1st\, The Grog's 4th Annual Chili Cook-Off headlined as The Chili Con-Carnival will be held from 12 noon to 3 pm in the parking lot at The Grog Restaurant.  Area restaurants will take part and proceeds will benefit The Pettengill House in Salisbury\, Our Neighbor's Table in Amesbury\, and Community Services of Newburyport.\n\n\n\nThe event will feature live music by Joppa Flatts\, door prizes\, and great chili.  Prizes will be awarded for the best chili entries as voted by those attending. Admission $10\; Children under 12 are admitted free.
X-ALT-DESC;FMTTYPE=text/html:On Saturday\, October 1st\, The Grog&#39\;s 4th Annual Chili Cook-Off headlined as The Chili Con-Carnival will be held from 12 noon to 3 pm in the parking lot at The Grog Restaurant.&nbsp\; Area restaurants will take part and proceeds will benefit The Pettengill House in Salisbury\, Our Neighbor&#39\;s Table in Amesbury\, and Community Services of Newburyport.<br />\n<br />\nThe event will feature live music by Joppa Flatts\, door prizes\, and great chili.&nbsp\; Prizes will be awarded for the best chili entries as voted by those attending. Admission $10\; Children under 12 are admitted free.
LOCATION:The Grog Restaurant 13 Middle Street Newburyport
UID:e.1189.2190
SEQUENCE:3
DTSTAMP:20260419T191529Z
URL:https://business.newburyportchamber.org/events/details/4th-annual-chili-cook-off-10-01-2011-2190
END:VEVENT

END:VCALENDAR
