BEGIN:VCALENDAR
VERSION:2.0
PRODID:-//ChamberMaster//Event Calendar 2.0//EN
METHOD:PUBLISH
X-PUBLISHED-TTL:P3D
REFRESH-INTERVAL:P3D
CALSCALE:GREGORIAN
BEGIN:VEVENT
DTSTART:20110513T040000Z
DTEND:20110513T040000Z
X-MICROSOFT-CDO-ALLDAYEVENT:FALSE
SUMMARY:45th Annual Meeting Luncheon
DESCRIPTION:The Chamber's 45th Annual Meeting Luncheon\n\n	Friday\, May 13\, 2011\n\n	\n\n	Keynote Speaker:\n\n	Senator Scott Brown\n\n	\n\n	Location:\n\n	Black Swan Country Club\n\n	Georgetown\, MA\n\n	\n\n	To Register:\n\n	Call 978-462-6680\n\n	Or follow the registration link below
X-ALT-DESC;FMTTYPE=text/html:<p>\n	<span style="font-family: calibri"><strong><span style="font-size: small">The Chamber&#39\;s 45th Annual Meeting Luncheon</span></strong><br style="font-size: small" />\n	<span style="font-size: small">Friday\, May 13\, 2011</span><br style="font-size: small" />\n	<br style="font-size: small" />\n	<span style="font-size: small">Keynote Speaker:<br />\n	Senator Scott Brown</span><br />\n	<br style="font-size: small" />\n	<span style="font-size: small">Location:</span><br style="font-size: small" />\n	Black Swan Country Club<br />\n	Georgetown\, MA<br />\n	<br style="font-size: small" />\n	<span style="font-size: small">To Register:</span><br style="font-size: small" />\n	<span style="font-size: small">Call 978-462-6680</span><br style="font-size: small" />\n	<span style="font-size: small">Or follow the registration link below</span></span></p>\n
LOCATION:Keon's at Black Swan Country Club
UID:e.1189.1783
SEQUENCE:3
DTSTAMP:20260420T053202Z
URL:https://business.newburyportchamber.org/events/details/45th-annual-meeting-luncheon-05-13-2011-1783
END:VEVENT

END:VCALENDAR
