BEGIN:VCALENDAR
VERSION:2.0
PRODID:-//ChamberMaster//Event Calendar 2.0//EN
METHOD:PUBLISH
X-PUBLISHED-TTL:P3D
REFRESH-INTERVAL:P3D
CALSCALE:GREGORIAN
BEGIN:VEVENT
DTSTART:20100512T040000Z
DTEND:20100512T040000Z
X-MICROSOFT-CDO-ALLDAYEVENT:FALSE
SUMMARY:44th Annual Meeting Luncheon
DESCRIPTION:The Chamber's 44th Annual Meeting Luncheon\nWednesday\, May 12\, 2010\n\n11:30 AM Registration\n12:00 - 2:00 PM Meeting\n\nKeynote Speaker:  Charlie Baker\nFormer CEO of Harvard Pilgrim Health Care\n\nLocation:\nBlue Ocean Music Hall at Salisbury Beach\n4 Oceanfront North\, Salisbury Beach\n\nTo Register:\nCall 978-462-6680 x11\nEmail pmarrese@newburyportchamber.org\nOr follow the registration link below\n\nFor more information\, including event sponsors\, click here!
X-ALT-DESC;FMTTYPE=text/html:<P><SPAN style="FONT-FAMILY: Calibri"><FONT size=2><STRONG><SPAN style="FONT-SIZE: small">The Chamber's 44th Annual Meeting Luncheon</SPAN></STRONG><BR style="FONT-SIZE: small"><SPAN style="FONT-SIZE: small">Wednesday\, May 12\, 2010</SPAN><BR style="FONT-SIZE: small"><BR style="FONT-SIZE: small"><SPAN style="FONT-SIZE: small">11:30 AM Registration</SPAN><BR style="FONT-SIZE: small"><SPAN style="FONT-SIZE: small">12:00 - 2:00 PM Meeting</SPAN><BR style="FONT-SIZE: small"><BR style="FONT-SIZE: small"><SPAN style="FONT-SIZE: small">Keynote Speaker:&nbsp\; </SPAN></FONT><A href="http://www.charliebaker2010.com/index.php"><SPAN style="FONT-SIZE: small">Charlie Baker</SPAN></A><BR style="FONT-SIZE: small"><FONT size=2><SPAN style="FONT-SIZE: small">Former CEO of Harvard Pilgrim Health Care</SPAN><BR style="FONT-SIZE: small"><BR style="FONT-SIZE: small"><SPAN style="FONT-SIZE: small">Location:</SPAN><BR style="FONT-SIZE: small"><FONT size=3>Blue Ocean Music Hall at Salisbury Beach<BR style="FONT-SIZE: small"><SPAN style="FONT-SIZE: small">4 Oceanfront North\, Salisbury Beach</SPAN></FONT><BR style="FONT-SIZE: small"><BR style="FONT-SIZE: small"><SPAN style="FONT-SIZE: small">To Register:</SPAN><BR style="FONT-SIZE: small"><SPAN style="FONT-SIZE: small">Call 978-462-6680 x11</SPAN><BR style="FONT-SIZE: small"><SPAN style="FONT-SIZE: small">Email </SPAN></FONT><A href="mailto:pmarrese@newburyportchamber.org"><SPAN style="FONT-SIZE: small">pmarrese@newburyportchamber.org</SPAN></A><BR style="FONT-SIZE: small"><FONT size=2><SPAN style="FONT-SIZE: small">Or follow the registration link below</SPAN><BR style="FONT-SIZE: small"><BR style="FONT-SIZE: small"><SPAN style="FONT-SIZE: small">For more information\, including event sponsors\, </SPAN></FONT><A href="http://www.newburyportchamber.org/annual_meeting.shtml" target=_blank><SPAN style="FONT-SIZE: small">click here</SPAN></A><SPAN style="FONT-SIZE: small">!</SPAN></SPAN></P>
LOCATION:Blue Ocean Music Hall
UID:e.1189.1523
SEQUENCE:3
DTSTAMP:20260421T050612Z
URL:https://business.newburyportchamber.org/events/details/44th-annual-meeting-luncheon-05-12-2010-1523
END:VEVENT

END:VCALENDAR
