BEGIN:VCALENDAR
VERSION:2.0
PRODID:-//ChamberMaster//Event Calendar 2.0//EN
METHOD:PUBLISH
X-PUBLISHED-TTL:P3D
REFRESH-INTERVAL:P3D
CALSCALE:GREGORIAN
BEGIN:VEVENT
DTSTART:20090513T040000Z
DTEND:20090513T040000Z
X-MICROSOFT-CDO-ALLDAYEVENT:FALSE
SUMMARY:43rd Annual Meeting Luncheon
DESCRIPTION:Join us for our 43rd Annual Meeting Luncheon with guest speaker\, the Honorable Martha Coakley\, Attorney General of Massachusetts.After May 8th\, please call 978-462-6680 to reserve your seat! Platinum Sponsors:Institution for SavingsNewburyport DevelopmentThe Newburyport Five Cents Savings BankThe Newburyport TrolleyThe Provident BankTD Banknorth
X-ALT-DESC;FMTTYPE=text/html:<P class=MsoNormal><FONT face=Arial size=2><SPAN style="FONT-SIZE: 11pt\; FONT-FAMILY: Calibri">Join us for our 43rd Annual Meeting Luncheon with guest speaker\, the Honorable Martha Coakley\, Attorney General of Massachusetts.</SPAN></FONT></P><P class=MsoNormal><FONT face=Arial size=2><SPAN style="FONT-SIZE: 11pt\; FONT-FAMILY: Calibri">After May 8th\, please call 978-462-6680 to reserve your seat!</SPAN></FONT></P><P class=MsoNormal><FONT face=Arial size=2></FONT>&nbsp\;</P><P class=MsoNormal><FONT face=Arial size=2>Platinum Sponsors:</FONT></P><P class=MsoNormal><A href="http://www.institutionforsavings.com/" target=_blank><FONT face=Arial size=2>Institution for Savings</FONT></A></P><P class=MsoNormal><A href="http://www.newburyportdevelopment.com" target=_blank><FONT face=Arial size=2>Newburyport Development</FONT></A></P><P class=MsoNormal><A href="http://www.newburyportbank.com/" target=_blank><FONT face=Arial size=2>The Newburyport Five Cents Savings Bank</FONT></A></P><P class=MsoNormal><A href="http://www.pnptours.com/" target=_blank><FONT face=Arial size=2>The Newburyport Trolley</FONT></A></P><P class=MsoNormal><A href="http://www.theprovidentbank.com" target=_blank><FONT face=Arial size=2>The Provident Bank</FONT></A></P><P class=MsoNormal><A href="http://www.tdbanknorth.com" target=_blank><FONT face=Arial size=2>TD Banknorth</FONT></A></P>
LOCATION:The Georgetown Club
UID:e.1189.1218
SEQUENCE:3
DTSTAMP:20260422T024149Z
URL:https://business.newburyportchamber.org/events/details/43rd-annual-meeting-luncheon-05-13-2009-1218
END:VEVENT

END:VCALENDAR
