BEGIN:VCALENDAR
VERSION:2.0
PRODID:-//ChamberMaster//Event Calendar 2.0//EN
METHOD:PUBLISH
X-PUBLISHED-TTL:P3D
REFRESH-INTERVAL:P3D
CALSCALE:GREGORIAN
BEGIN:VEVENT
DTSTART;VALUE=DATE:20111118
DTEND;VALUE=DATE:20111121
TRANSP:TRANSPARENT
X-MICROSOFT-CDO-ALLDAYEVENT:TRUE
SUMMARY:30th Annual Christmastide Show
DESCRIPTION:Flukes & Finds & Friends on 70 State Street in Newburyport\, MA is celebrating the 30th Annual Christmastide Show. \n\nA year long collection of just this side of tacky 1968 Made in the USA plastic lit Santas and Snowmen will rub elbows with an early 19th century solid oak hand carved European dowager chest. Other treasured finds include a 45 drawer library filing stand\, a large mercury glass vase\, folk art by Claire Amirault and Linda Farmer\, all surrounded by Christmas trees and sparkling lights. Fluke's elves will be working to delight and dazzle the weekend before Thanksgiving. \n\n\n\nFor more information call Gail: 978-462-2828 or email her at flukesandfinds@comcast.net.  While Gail is not going to Tweet or Twitter anytime soon.\n\nFlukes does have a website designed by Anna Chupa: www.flukesandfinds.com. \n\n\n\nJoin us for some RETAIL THERAPY 30 YEARS OF GREAT CUSTOMERS! \n\n"Though we may roam far and wide\, our hearts come home at Christmastide."
X-ALT-DESC;FMTTYPE=text/html:<span style="font-size: 14px"><span style="font-size: 12px">Flukes &amp\; Finds &amp\; Friends on 70 State Street in Newburyport\, MA is celebrating the 30<sup>th</sup> Annual Christmastide Show.&nbsp\;<br />\nA year long collection of just this side of tacky 1968 Made in the USA plastic lit Santas and Snowmen will rub elbows with an early 19<sup>th</sup> century solid oak hand carved European dowager chest.&nbsp\;Other treasured finds include a 45 drawer library filing stand\, a large mercury glass vase\, folk art by Claire Amirault and Linda Farmer\, all surrounded by Christmas trees and sparkling lights. Fluke&rsquo\;s elves will be working to delight and dazzle the weekend before Thanksgiving.&nbsp\;<br />\n<br />\nFor more information call Gail: 978-462-2828 or email her at <a href="mailto:flukesandfinds@comcast.net"><span style="color: #0000ff">flukesandfinds@comcast.net</span></a>.&nbsp\; While Gail is not going to Tweet or Twitter anytime soon.<br />\nFlukes does have a website designed by Anna Chupa: <a href="http://www.flukesandfinds.com/"><span style="color: #0000ff">www.flukesandfinds.com</span></a>.&nbsp\;<br />\n<br />\nJoin us for some <strong><span style="font-weight: bold">RETAIL THERAPY&hellip\;30 YEARS OF GREAT CUSTOMERS! </span></strong><br />\n&ldquo\;Though we may roam far and wide\, our hearts come home at Christmastide.&rdquo\;&nbsp\;&nbsp\;&nbsp\;</span>&nbsp\;</span><br />\n
LOCATION:70 State Street in Newburyport\, MA
UID:e.1189.2389
SEQUENCE:3
DTSTAMP:20260419T191614Z
URL:https://business.newburyportchamber.org/events/details/30th-annual-christmastide-show-11-18-2011-2389
END:VEVENT

END:VCALENDAR
