BEGIN:VCALENDAR
VERSION:2.0
PRODID:-//ChamberMaster//Event Calendar 2.0//EN
METHOD:PUBLISH
X-PUBLISHED-TTL:P3D
REFRESH-INTERVAL:P3D
CALSCALE:GREGORIAN
BEGIN:VEVENT
DTSTART:20120210T230000Z
DTEND:20120211T040000Z
X-MICROSOFT-CDO-ALLDAYEVENT:FALSE
SUMMARY:2nd Annual Texas Hold'Em Poker Tournament
DESCRIPTION:This great event is a fun way to raise money for the Newburyport Public Schools. Spectators are welcome and there is no cover charge. The event will feature a Cash Bar and food provided compliments of Oregano Pizzeria\, Newburyport.\n\n\n\nPrizes will be awarded to the top 10 finishers.\n\n\n\nWe have made several enhancements this year\, including:\n\n\n\n Professional dealers\, courtesy of Matter Communications\n\n Professional masseuses to ease the tension\, courtesy of Elements Therapeutic Massage\n\n Seating is limited so we can only accept paid registrations for the first 150 players\n\n\n\nIf you can't make it\, or are not a poker player (FYI - a novice finished in the Top 5 last year)\, feel free to sponsor an educator by registering in his or her name.\n\n\n\nTickets are $100 and can be purchased online\, or in cash at Oregano's\, 16 Pleasant Street\, Newburyport.
X-ALT-DESC;FMTTYPE=text/html:This great event is a fun way to raise money for the Newburyport Public Schools. Spectators are welcome and there is no cover charge. The event will feature a Cash Bar and food provided compliments of Oregano Pizzeria\, Newburyport.<br />\n<br />\n<strong>Prizes will be awarded to the top 10 finishers.</strong><br />\n<br />\nWe have made several enhancements this year\, including:<br />\n<br />\n<strong>&bull\;Professional dealers\, courtesy of Matter Communications<br />\n&bull\;Professional masseuses to ease the tension\, courtesy of Elements Therapeutic Massage<br />\n&bull\;Seating is limited so we can only accept paid registrations for the first 150 players</strong><br />\n<br />\nIf you can&#39\;t make it\, or are not a poker player (FYI - a novice finished in the Top 5 last year)\, feel free to sponsor an educator by registering in his or her name.<br />\n<br />\nTickets are $100 and can be purchased online\, or in cash at Oregano&rsquo\;s\, 16 Pleasant Street\, Newburyport.<br />\n
LOCATION:Newburyport City Hall\, 60 Pleasant Street
UID:e.1189.2911
SEQUENCE:3
DTSTAMP:20260419T124747Z
URL:https://business.newburyportchamber.org/events/details/2nd-annual-texas-hold-em-poker-tournament-02-10-2012-2911
END:VEVENT

END:VCALENDAR
