BEGIN:VCALENDAR
VERSION:2.0
PRODID:-//ChamberMaster//Event Calendar 2.0//EN
METHOD:PUBLISH
X-PUBLISHED-TTL:P3D
REFRESH-INTERVAL:P3D
CALSCALE:GREGORIAN
BEGIN:VEVENT
DTSTART:20110716T000000Z
DTEND:20110716T030000Z
X-MICROSOFT-CDO-ALLDAYEVENT:FALSE
SUMMARY:2nd Annual Buffett Beach Blast
DESCRIPTION:Changes In Latitudes is the tropical concert event of the season. A nine-piece band with a singular plan to take you to Margaritaville with beach balls flying\, conga lines\, Hawaiian shirts\, grass skirts\, leis and authentic Buffett music. For the true Parrot Heads out there\, Changes in Latitude has captured the look\, feel\, and sound of a real Jimmy Buffett concert. So\, if you're ready for a "Latitude Adjustment" join the beach party!
X-ALT-DESC;FMTTYPE=text/html:Changes In Latitudes is the tropical concert event of the season. A nine-piece band with a singular plan&hellip\;to take you to Margaritaville with beach balls flying\, conga lines\, Hawaiian shirts\, grass skirts\, leis and authentic Buffett music. For the true Parrot Heads out there\, Changes in Latitude has captured the look\, feel\, and sound of a real Jimmy Buffett concert. So\, if you&#39\;re ready for a &quot\;Latitude Adjustment&quot\; join the beach party!
LOCATION:Blue Ocean Music Hall 4 Oceanfront North Salisbury
UID:e.1189.1974
SEQUENCE:3
DTSTAMP:20260420T001749Z
URL:https://business.newburyportchamber.org/events/details/2nd-annual-buffett-beach-blast-07-15-2011-1974
END:VEVENT

END:VCALENDAR
