BEGIN:VCALENDAR
VERSION:2.0
PRODID:-//ChamberMaster//Event Calendar 2.0//EN
METHOD:PUBLISH
X-PUBLISHED-TTL:P3D
REFRESH-INTERVAL:P3D
CALSCALE:GREGORIAN
BEGIN:VEVENT
DTSTART:20120203T230000Z
DTEND:20120204T020000Z
X-MICROSOFT-CDO-ALLDAYEVENT:FALSE
SUMMARY:2nd Annual BOAT CAMP Bash.
DESCRIPTION:
X-ALT-DESC;FMTTYPE=text/html:
LOCATION:Next to the Black Cow Tap & Grill on the waterfront
UID:e.1189.2411
SEQUENCE:3
DTSTAMP:20260419T124142Z
URL:https://business.newburyportchamber.org/events/details/2nd-annual-boat-camp-bash-02-03-2012-2411
END:VEVENT

END:VCALENDAR
